BEGIN:VCALENDAR
VERSION:2.0
PRODID:-//LA RUCHE - ECPv4.7.4//NONSGML v1.0//EN
CALSCALE:GREGORIAN
METHOD:PUBLISH
X-WR-CALNAME:LA RUCHE
X-ORIGINAL-URL:https://www.cslaruche.fr
X-WR-CALDESC:évènements pour LA RUCHE
BEGIN:VEVENT
DTSTART;TZID=Europe/Paris:20230319T090000
DTEND;TZID=Europe/Paris:20230319T170000
DTSTAMP:20260420T095614
CREATED:20230213T105345Z
LAST-MODIFIED:20230411T073345Z
UID:18173-1679216400-1679245200@www.cslaruche.fr
SUMMARY:Vide Dressing 
DESCRIPTION:Vide Dressing \nQue vous ayez envie de vendre les vêtements qui embarrassent vos armoires (alors qu’ils sont en bon état)\, de vous vêtir à pas cher ou de flâner à la recherche de LA bonne affaire\,  rendez-vous le dimanche 19 mars prochain !  \nIl y aura des vêtements d’occasion adultes et enfants ainsi que des accessoires de mode\, des jouets et du matériel de puériculture. \n  \nSi vous souhaitez être exposant\, vous trouverez ci dessous tous les documents et informations utiles pour vous inscrire. \nDOCUMENTS À TÉLÉCHARGER\n\nFiche d’inscription\nAttestation sur l’honneur\nRèglement vide dressing\n\nCe projet mobilise une équipe de bénévoles\, qui gère notamment les inscriptions. \nPour les contacter ou vous inscrire : boitesavetements@cslaruche.fr \nINFORMATIONS PRATIQUES\n  \n\nBuvette et petite restauration sucrée sur place\nPour les visiteurs : En famille // Gratuit\nPour les exposants : 4 € pour 2 mètres comprenant table et chaise installées à disposition / Sur inscription / Installation le jour même de 7h30  à 9h.  Possibilité de s’inscrire en venant nous voir au centre social ou nous envoyant par courrier ou email les  documents d’inscription recto-verso ci-dessus signés et le règlement (uniquement par chèque si envoi par courrier).\nRèglement possible en espèce\, par chèque (à l’ordre de LA RUCHE\, Centre Social Laigné – Saint Gervais) ou par CB (sur place ou à distance via un lien par email ou un texto).\nPossibilité d’être rappelé par une bénévole pour toute question en envoyant un email: boitesavetements@cslaruche.fr\n\nPRÉCAUTIONS COVID-19 \n\nLavez-vous régulièrement les mains\, toussez et éternuez dans votre coude.\nPortez un masque si vous êtes symptomatique ou à risque.\nCes recommandations peuvent évoluer en fonction de l’intensité de l’épidémie et des contraintes sanitaires.\n\n
URL:https://www.cslaruche.fr/evenement/18173/
LOCATION:La Belinoise\, rue de la Noé Gourdé\, Laigné en Belin\, 72220\, France
ATTACH;FMTTYPE=image/jpeg:https://www.cslaruche.fr/wp-content/uploads/2023/02/interior-of-kids-room-decoration-with-clothes.jpg
ORGANIZER;CN="LA%20RUCHE%2C%20Centre%20Social":MAILTO:accueil@cslaruche.fr
END:VEVENT
END:VCALENDAR