BEGIN:VCALENDAR
VERSION:2.0
PRODID:-//LA RUCHE - ECPv4.7.4//NONSGML v1.0//EN
CALSCALE:GREGORIAN
METHOD:PUBLISH
X-WR-CALNAME:LA RUCHE
X-ORIGINAL-URL:https://www.cslaruche.fr
X-WR-CALDESC:évènements pour LA RUCHE
BEGIN:VEVENT
DTSTART;TZID=Europe/Paris:20231004T153000
DTEND;TZID=Europe/Paris:20231004T163000
DTSTAMP:20260419T141342
CREATED:20230914T075603Z
LAST-MODIFIED:20231005T071328Z
UID:19065-1696433400-1696437000@www.cslaruche.fr
SUMMARY:À vos aiguilles\, prêts...
DESCRIPTION:« À vos aiguilles\, prêts\, tricotez ! »\n  \nLa médiathèque de Moncé en Belin nous accueille le temps d’un après-midi détente.  \n  \nAu programme\, initiation à l’art du tricot avec Isabelle\, suivi d’un goûter à partager. \n  \nL’occasion de tisser des moments de partage. \n  \nINFORMATIONS PRATIQUES\n  \n\nEn famille\, à partir de 6 ans\nTous les membres de la famille sont bienvenus\n\n
URL:https://www.cslaruche.fr/evenement/a-vos-aiguilles-prets-tricotez/
LOCATION:Médiathèque de Moncé\, Le Val'Rhonne\, Allée de l'Europe\, Moncé en Belin\, 72220\, France
ATTACH;FMTTYPE=image/jpeg:https://www.cslaruche.fr/wp-content/uploads/2023/09/gros-plan-mains-tricoter-table-bois.jpg
ORGANIZER;CN="LA%20RUCHE%2C%20Centre%20Social":MAILTO:accueil@cslaruche.fr
END:VEVENT
END:VCALENDAR