BEGIN:VCALENDAR
VERSION:2.0
PRODID:-//LA RUCHE - ECPv4.7.4//NONSGML v1.0//EN
CALSCALE:GREGORIAN
METHOD:PUBLISH
X-WR-CALNAME:LA RUCHE
X-ORIGINAL-URL:https://www.cslaruche.fr
X-WR-CALDESC:évènements pour LA RUCHE
BEGIN:VEVENT
DTSTART;TZID=Europe/Paris:20230310T190000
DTEND;TZID=Europe/Paris:20230310T230000
DTSTAMP:20260420T180938
CREATED:20230306T140516Z
LAST-MODIFIED:20230411T073335Z
UID:18260-1678474800-1678489200@www.cslaruche.fr
SUMMARY:Apéro Concert St Patrick
DESCRIPTION:Apéro Concert St Patrick au Val’Rhonne\n  \n[On y  sera]\nLes Mi-Gratteurs – 1ère partie\nLe duo alençonnais\,  » Les Mi-Gratteurs  » explore les sonorités de différentes origines. Pour cette soirée spéciale  » St Patrick « \, ils entraîneront le public dans une ambiance conviviale et festive de pubs irlandais.\n\n\n\n \n\n\n\nKervegans – 2ème partie\nKervegans est un groupe de rock originaire de Nantes\, créé en 2002. Outre le trio guitare\, basse\, batterie\, la formation inclut des instruments plus traditionnels comme la bombarde\, le violon\, le saxophone\, le banjo et diffuse un rock celtique assumé. Influencés par les musiques traditionnelles autant que par le rock\, Kervegans souhaitent à travers leur dernier album\, métisser les genres et proposer une musique touchante et inter-générationnelle.\n\n\n\n\n \n\n  \nINFORMATIONS PRATIQUES\n  \n\nEn famille\nTous les membres de la famille sont bienvenus\n Babysitting gratuit pour les enfants de 3 à 12 ans\n\n  \nPRÉCAUTIONS COVID-19 :\n\nLavez-vous régulièrement les mains\, toussez et éternuez dans votre coude.\nPortez un masque si vous êtes symptomatique ou à risque.\nCes recommandations peuvent évoluer en fonction de l’intensité de l’épidémie et des contraintes sanitaires.\n\n
URL:https://www.cslaruche.fr/evenement/apero-concert-st-patrick/
LOCATION:Le Val’Rhonne\, Allée de l'Europe\, Moncé en belin\, 72220
ATTACH;FMTTYPE=image/jpeg:https://www.cslaruche.fr/wp-content/uploads/2023/03/affichestpatrick.jpg
ORGANIZER;CN="LA%20RUCHE%2C%20Centre%20Social":MAILTO:accueil@cslaruche.fr
END:VEVENT
END:VCALENDAR