BEGIN:VCALENDAR
VERSION:2.0
PRODID:-//LA RUCHE - ECPv4.7.4//NONSGML v1.0//EN
CALSCALE:GREGORIAN
METHOD:PUBLISH
X-WR-CALNAME:LA RUCHE
X-ORIGINAL-URL:https://www.cslaruche.fr
X-WR-CALDESC:évènements pour LA RUCHE
BEGIN:VEVENT
DTSTART;TZID=Europe/Paris:20230113T190000
DTEND;TZID=Europe/Paris:20230113T220000
DTSTAMP:20260422T020348
CREATED:20230105T113357Z
LAST-MODIFIED:20230130T083054Z
UID:17508-1673636400-1673647200@www.cslaruche.fr
SUMMARY:Apéro concerts
DESCRIPTION:Apéro concerts\n  \nOrganisé par Le Val’Rhonne \n[ On y sera pour garder vos enfants  ] \n  \nLe Val’Rhonne convie deux nouveaux artistes à Moncé en Belin : Arnold\, guitariste auversois et Organic songs\, composé d’une voix\, d’un orgue Hammond et d’une batterie \nBoissons et assiettes gourmandes vous seront proposées au bar. ( réservation conseillée !) \n  \nNous nous joignons à eux avec un espace jeux pour les enfants\, animé par des jeunes qui ont suivi avec nous deux jours de formation babysitting. \nPour les familles\, c’est un bon moyen de les rencontrer et d’être plus serein durant la soirée ! Pour les enfants\, c’est une bonne façon de s’amuser tout en musique ! \n  \nArnold\, à découvrir ici : \n \n  \nOrganic Songs\, juste ici :  \n \n  \nINFORMATIONS PRATIQUES\n  \n\nEn famille\nTous les membres de la famille sont bienvenus\n Babysitting au chapeau\, réservation conseillée pour le repas.\n\n  \nPRÉCAUTIONS COVID-19 :\n\nLavez-vous régulièrement les mains\, toussez et éternuez dans votre coude.\nPortez un masque si vous êtes symptomatique ou à risque.\nCes recommandations peuvent évoluer en fonction de l’intensité de l’épidémie et des contraintes sanitaires.\n\n
URL:https://www.cslaruche.fr/evenement/apero-concerts-2/
LOCATION:Le Val’Rhonne\, Allée de l'Europe\, Moncé en belin\, 72220
ATTACH;FMTTYPE=image/jpeg:https://www.cslaruche.fr/wp-content/uploads/2023/01/apéro-concert-janvier.jpg
ORGANIZER;CN="LA%20RUCHE%2C%20Centre%20Social":MAILTO:accueil@cslaruche.fr
END:VEVENT
END:VCALENDAR