BEGIN:VCALENDAR
VERSION:2.0
PRODID:-//LA RUCHE - ECPv4.7.4//NONSGML v1.0//EN
CALSCALE:GREGORIAN
METHOD:PUBLISH
X-WR-CALNAME:LA RUCHE
X-ORIGINAL-URL:https://www.cslaruche.fr
X-WR-CALDESC:évènements pour LA RUCHE
BEGIN:VEVENT
DTSTART;TZID=Europe/Paris:20221105T100000
DTEND;TZID=Europe/Paris:20221105T113000
DTSTAMP:20260423T223756
CREATED:20211025T145357Z
LAST-MODIFIED:20221107T110113Z
UID:12092-1667642400-1667647800@www.cslaruche.fr
SUMMARY:Massage bébé
DESCRIPTION:Massage bébé\n  \nComment détendre son nouveau-né ? De quelles façons lui apporter du bien être ?  \nClaire Avice\, formée aux massages bébés nous partagera ses connaissances pour chouchouter votre bébé au quotidien.  \nS’il dort à ce moment là\, pas de panique\, des poupons seront à disposition pour s’essayer.  \nINFORMATIONS PRATIQUES\n  \n\nEn famille\, de la naissance au premier pas\n3 € par personne\nTous les membres de la famille sont bienvenus ; parents\, futurs parents\, grands parents\nTenue décontractée conseillée. \nSauf exceptions\, adhésion obligatoire à LA RUCHE : 5 €.  Une seule adhésion par famille et par an. Si vous avez pris une adhésion dans le cadre de nos ateliers à l’année\, vous n’êtes pas concernés. Plus d’informations en cliquant ICI\nNouveau ! Paiement possible par Carte Bancaire\n\n  \nPRÉCAUTIONS COVID-19 : \n  \n\nLavez-vous régulièrement les mains\, toussez et éternuez dans votre coude.\nPortez un masque si vous êtes symptomatique ou à risque.\nCes recommandations peuvent évoluer en fonction de l’intensité de l’épidémie et des contraintes sanitaires\n\n
URL:https://www.cslaruche.fr/evenement/atelier-parents-enfants-massage/
LOCATION:Multi accueil\, Chemin de l’Abreuvoir\, Ecommoy\, 72220\, France
ATTACH;FMTTYPE=image/jpeg:https://www.cslaruche.fr/wp-content/uploads/2021/10/massage-bébé-2-1.jpg
ORGANIZER;CN="LA%20RUCHE%2C%20Centre%20Social":MAILTO:accueil@cslaruche.fr
END:VEVENT
END:VCALENDAR