BEGIN:VCALENDAR
VERSION:2.0
PRODID:-//LA RUCHE - ECPv4.7.4//NONSGML v1.0//EN
CALSCALE:GREGORIAN
METHOD:PUBLISH
X-WR-CALNAME:LA RUCHE
X-ORIGINAL-URL:https://www.cslaruche.fr
X-WR-CALDESC:évènements pour LA RUCHE
BEGIN:VEVENT
DTSTART;TZID=Europe/Paris:20250122T150000
DTEND;TZID=Europe/Paris:20250122T170000
DTSTAMP:20260420T082141
CREATED:20250106T103900Z
LAST-MODIFIED:20250224T141625Z
UID:20548-1737558000-1737565200@www.cslaruche.fr
SUMMARY:Batch cooking
DESCRIPTION:La cuisine\, les repas\, les idées… et si on s’y mettait tous ensemble pour faciliter le quotidien ?  \nLe batch cooking ; vous connaissez ?  \nIl s’agit d’une to do list soigneusement pensé pour confectionner des repas à l’avance en moins de temps possible.  \nNous nous occupons des aliments collectés auprès de nos producteurs locaux et vous enverrons la liste des ustensiles nécessaires suite à votre inscription.  \nVenez avec votre huile de coude\, repartez avec deux dîners pour toute la famille !  \nINFORMATIONS PRATIQUES \n\nEn famille\, à partir de 4 ans\nSur inscription\, jauge limitée\n10€ par famille / 20 € par personne pour les autres familles. + d’informations en cliquant ICI\nTous les membres de la famille sont bienvenus\nSauf exceptions\, adhésion obligatoire à LA RUCHE : 5 €.  Une seule adhésion par famille et par an. Si vous avez pris une adhésion dans le cadre de nos ateliers à l’année\, vous n’êtes pas concernés. Plus d’informations en cliquant ICI\nPaiement possible par Carte Bancaire  \n\n
URL:https://www.cslaruche.fr/evenement/batch-cooking/
LOCATION:Le Val’Rhonne\, Allée de l'Europe\, Moncé en belin\, 72220
ATTACH;FMTTYPE=image/jpeg:https://www.cslaruche.fr/wp-content/uploads/2025/01/batch-cooking.jpg
ORGANIZER;CN="LA%20RUCHE%2C%20Centre%20Social":MAILTO:accueil@cslaruche.fr
END:VEVENT
END:VCALENDAR