BEGIN:VCALENDAR
VERSION:2.0
PRODID:-//LA RUCHE - ECPv4.7.4//NONSGML v1.0//EN
CALSCALE:GREGORIAN
METHOD:PUBLISH
X-WR-CALNAME:LA RUCHE
X-ORIGINAL-URL:https://www.cslaruche.fr
X-WR-CALDESC:évènements pour LA RUCHE
BEGIN:VEVENT
DTSTART;TZID=Europe/Paris:20241016T100000
DTEND;TZID=Europe/Paris:20241016T110000
DTSTAMP:20260421T021619
CREATED:20240826T080031Z
LAST-MODIFIED:20241114T131324Z
UID:20154-1729072800-1729076400@www.cslaruche.fr
SUMMARY:Bébés Lecteurs
DESCRIPTION:Avec Nicolas\, médiathécaire à Laigné-St Gervais.  \nNos ateliers bébés lecteurs lient toujours temps de lecture par Nicolas et petit atelier animé par nos soins. Ce mercredi matin\, nous partons à la recherche des châtaignes ; celles que vous pourrez ensuite déguster à la maison. Un grand Miam !   \nINFORMATIONS PRATIQUES \n\nEn famille\, à partir de 4 mois\nSur inscription\, jauge limitée\nGratuit \nTous les membres de la famille sont bienvenus\n\n
URL:https://www.cslaruche.fr/evenement/bebes-lecteurs-16/
LOCATION:Bois de Saint Ouen en Belin
ATTACH;FMTTYPE=image/jpeg:https://www.cslaruche.fr/wp-content/uploads/2024/07/bebes-lecteurs.jpg
ORGANIZER;CN="LA%20RUCHE%2C%20Centre%20Social":MAILTO:accueil@cslaruche.fr
END:VEVENT
END:VCALENDAR