BEGIN:VCALENDAR
VERSION:2.0
PRODID:-//LA RUCHE - ECPv4.7.4//NONSGML v1.0//EN
CALSCALE:GREGORIAN
METHOD:PUBLISH
X-WR-CALNAME:LA RUCHE
X-ORIGINAL-URL:https://www.cslaruche.fr
X-WR-CALDESC:évènements pour LA RUCHE
BEGIN:VEVENT
DTSTART;TZID=Europe/Paris:20241113T100000
DTEND;TZID=Europe/Paris:20241113T110000
DTSTAMP:20260421T010204
CREATED:20241107T110814Z
LAST-MODIFIED:20241125T130929Z
UID:20296-1731492000-1731495600@www.cslaruche.fr
SUMMARY:Bébés Lecteurs
DESCRIPTION:L’amour\, la famille\, notre cocoon : un moment de partage intergénérationnel entre vous et les résidents de L’EHPAD des Foyers de la Fuie.  \nVenez écouter des histoires en famille et participer à un atelier qui nous rassemble autour de l’automne. \nINFORMATIONS PRATIQUES \n\nEn famille\, de la naissance à 4 ans\nSur inscription\, jauge limitée\nGratuit\nTous les membres de la famille sont bienvenus\n\n
URL:https://www.cslaruche.fr/evenement/bebes-lecteurs-17/
LOCATION:EHPAD Les Foyers de la Fuie\, Laigné en Belin
ATTACH;FMTTYPE=image/jpeg:https://www.cslaruche.fr/wp-content/uploads/2024/11/bebes-lecteurs-ephad-scaled.jpeg
ORGANIZER;CN="LA%20RUCHE%2C%20Centre%20Social":MAILTO:accueil@cslaruche.fr
END:VEVENT
END:VCALENDAR