BEGIN:VCALENDAR
VERSION:2.0
PRODID:-//LA RUCHE - ECPv4.7.4//NONSGML v1.0//EN
CALSCALE:GREGORIAN
METHOD:PUBLISH
X-WR-CALNAME:LA RUCHE
X-ORIGINAL-URL:https://www.cslaruche.fr
X-WR-CALDESC:évènements pour LA RUCHE
BEGIN:VEVENT
DTSTART;TZID=Europe/Paris:20221123T100000
DTEND;TZID=Europe/Paris:20221123T110000
DTSTAMP:20260423T075227
CREATED:20221026T201209Z
LAST-MODIFIED:20221122T154904Z
UID:16893-1669197600-1669201200@www.cslaruche.fr
SUMMARY:Bébés Lecteurs
DESCRIPTION:Bébés Lecteurs – Promenons-nous dans les bois\n  \nCo-organisé avec la médiathèque de Laigné-St Gervais \nAlors que l’automne laisse tomber les feuilles des arbres et que tout change dans la nature ; si nous allions voir de plus prés ce qui s’y passe.  \nSuite à un temps de lecture proposé par Nicolas sur le thème “ Promenons nous dans les bois”\, nous profiterons d’un terrain de jeu grandeur nature pour faire un cache cache géant en famille… promis\, nous n’aurons pas le temps de nous refroidir ! 😉  \n  \nINFORMATIONS PRATIQUES\n  \n\nEn famille\, à partir de la naissance et jusqu’à 4 ans  \nTous les membres de la famille sont bienvenus\nGratuit\nSauf exceptions\, adhésion obligatoire à LA RUCHE : 5 €.  Une seule adhésion par famille et par an. Si vous avez pris une adhésion dans le cadre de nos ateliers à l’année\, vous n’êtes pas concernés. Plus d’informations en cliquant ICI\nNouveau ! Paiement possible par Carte Bancaire  \n\n  \nPRÉCAUTIONS COVID-19 :\n\nLavez-vous régulièrement les mains\, toussez et éternuez dans votre coude.\nPortez un masque si vous êtes symptomatique ou à risque.\nCes recommandations peuvent évoluer en fonction de l’intensité de l’épidémie et des contraintes sanitaires.\n\n
URL:https://www.cslaruche.fr/evenement/bebes-lecteurs-4/
LOCATION:Parcours santé\, Bois route du Lude\, Saint Gervais en Belin\, 72220\, France
ATTACH;FMTTYPE=image/jpeg:https://www.cslaruche.fr/wp-content/uploads/2022/10/bebe-lecteur-bois.jpg
ORGANIZER;CN="LA%20RUCHE%2C%20Centre%20Social":MAILTO:accueil@cslaruche.fr
END:VEVENT
END:VCALENDAR