BEGIN:VCALENDAR
VERSION:2.0
PRODID:-//LA RUCHE - ECPv4.7.4//NONSGML v1.0//EN
CALSCALE:GREGORIAN
METHOD:PUBLISH
X-WR-CALNAME:LA RUCHE
X-ORIGINAL-URL:https://www.cslaruche.fr
X-WR-CALDESC:évènements pour LA RUCHE
BEGIN:VEVENT
DTSTART;TZID=Europe/Paris:20230222T100000
DTEND;TZID=Europe/Paris:20230222T110000
DTSTAMP:20260421T051244
CREATED:20230206T091033Z
LAST-MODIFIED:20230227T101749Z
UID:17983-1677060000-1677063600@www.cslaruche.fr
SUMMARY:Bébés lecteurs
DESCRIPTION:Bébés lecteurs\n  \nCo-organisé avec la médiathèque de Laigné-St Gervais \n  \nEn plein milieu de l’hiver\, sous ce ciel tout gris\, on s’est dit qu’il serait bon de vous apporter une petite dose de lumière et de couleurs.  \nAvec Nicolas\, notre bibliothécaire\, on vous concocte de jolies histoires lumineuses\, suivies d’un moment créatif. \n  \nINFORMATIONS PRATIQUES\n  \n\nEn famille\, de la naissance et jusqu’à 4 ans  \nTous les membres de la famille sont bienvenus\nGratuit\nSauf exceptions\, adhésion obligatoire à LA RUCHE : 5 €.  Une seule adhésion par famille et par an. Si vous avez pris une adhésion dans le cadre de nos ateliers à l’année\, vous n’êtes pas concernés. Plus d’informations en cliquant ICI\nNouveau ! Paiement possible par Carte Bancaire  \n\n  \nPRÉCAUTIONS COVID-19 :\n\nLavez-vous régulièrement les mains\, toussez et éternuez dans votre coude.\nPortez un masque si vous êtes symptomatique ou à risque.\nCes recommandations peuvent évoluer en fonction de l’intensité de l’épidémie et des contraintes sanitaires.\n\n
URL:https://www.cslaruche.fr/evenement/bebes-lecteurs-5/
LOCATION:Espace du Belin\, 34 rue des Frères Bailleul\, Laigné en Belin\, 72220\, France
ORGANIZER;CN="LA%20RUCHE%2C%20Centre%20Social":MAILTO:accueil@cslaruche.fr
END:VEVENT
END:VCALENDAR