BEGIN:VCALENDAR
VERSION:2.0
PRODID:-//LA RUCHE - ECPv4.7.4//NONSGML v1.0//EN
CALSCALE:GREGORIAN
METHOD:PUBLISH
X-WR-CALNAME:LA RUCHE
X-ORIGINAL-URL:https://www.cslaruche.fr
X-WR-CALDESC:évènements pour LA RUCHE
BEGIN:VEVENT
DTSTART;TZID=Europe/Paris:20241001T133000
DTEND;TZID=Europe/Paris:20241001T170000
DTSTAMP:20260421T045934
CREATED:20240917T070303Z
LAST-MODIFIED:20241114T131416Z
UID:20220-1727789400-1727802000@www.cslaruche.fr
SUMMARY:Bien vieillir
DESCRIPTION:Le forum « Bien vieillir en faisant attention à soi »\, action portée par le CRT de la fondation Georges Coulon et en partenariat avec La Ruche Centre Social\, l’Aidant Bus\, le département 72\, le lycée des horizons de St Gervais en Belin\, l’association Corps en Mouvement. \nCe forum est orienté pour les seniors à partir de 60 ans. Plusieurs partenaires y seront présents pour y proposer des tables rondes\, des temps d’activité (gym douce\, marche\, yoga etc…) et des stands d’information (diététicienne\, ergothérapeute\, nutritionniste\, France Services etc…) \nInformations et inscriptions auprès du CRT 07 56 00 60 88 ou crt@fondation-gcoulon.fr \nINFORMATIONS PRATIQUES \n\nPour les jeunes de plus de 60 ans\nSans inscription\nGratuit\n\n
URL:https://www.cslaruche.fr/evenement/bien-vieillir-en-prenant-soin-de-soi/
LOCATION:La Belinoise\, rue de la Noé Gourdé\, Laigné en Belin\, 72220\, France
ATTACH;FMTTYPE=image/jpeg:https://www.cslaruche.fr/wp-content/uploads/2024/09/459575743_538418341898436_6429159221485855338_n.jpg
END:VEVENT
END:VCALENDAR