BEGIN:VCALENDAR
VERSION:2.0
PRODID:-//LA RUCHE - ECPv4.7.4//NONSGML v1.0//EN
CALSCALE:GREGORIAN
METHOD:PUBLISH
X-WR-CALNAME:LA RUCHE
X-ORIGINAL-URL:https://www.cslaruche.fr
X-WR-CALDESC:évènements pour LA RUCHE
BEGIN:VEVENT
DTSTART;TZID=Europe/Paris:20231023T160000
DTEND;TZID=Europe/Paris:20231023T173000
DTSTAMP:20260421T004341
CREATED:20231023T134406Z
LAST-MODIFIED:20240105T113937Z
UID:19204-1698076800-1698082200@www.cslaruche.fr
SUMMARY:Caserne des Pompiers 
DESCRIPTION:Visite de la Caserne des Pompiers \n  \nCo-organisé avec les pompiers de la Caserne de Téloché \n  \nCela avait tellement plu en 2022 que nous y retournons cette année !  \n  \nL’équipe de pompiers bénévoles de la caserne de Teloché nous attend ce 18 novembre pour nous faire découvrir leur pratique et tous leurs outils.  \n  \nÇa ressemble à quoi l’intérieur d’un camion ? Ça pèse lourd une lance à incendie ? Ça brille vraiment un casque de pompier ?  \n  \nS’en suivra un petit goûter tous ensemble.  \n  \nINFORMATIONS PRATIQUES\n  \n\nEn famille\, à partir de 3 ans.\n2€ par personne pour les familles de notre territoire d’intervention (Laigné en Belin\, Saint Gervais en Belin\, Ecommoy\, Teloché\, Moncé en Belin et Saint Ouen en Belin) – 4€ par personne pour les autres familles. + d’informations en cliquant ICI\nTous les membres de la famille sont bienvenus\nSauf exceptions\, adhésion obligatoire à LA RUCHE : 5 €.  Une seule adhésion par famille et par an. Si vous avez pris une adhésion dans le cadre de nos ateliers à l’année\, vous n’êtes pas concernés. Plus d’informations en cliquant ICI\nPaiement possible par Carte Bancaire  \n\n
URL:https://www.cslaruche.fr/evenement/caserne-des-pompiers/
LOCATION:Caserne des Pompiers\, 7 rue de l'avenir\, Teloché\, 72220
ATTACH;FMTTYPE=image/jpeg:https://www.cslaruche.fr/wp-content/uploads/2022/04/visite-de-caserne.jpg
ORGANIZER;CN="LA%20RUCHE%2C%20Centre%20Social":MAILTO:accueil@cslaruche.fr
END:VEVENT
END:VCALENDAR