BEGIN:VCALENDAR
VERSION:2.0
PRODID:-//LA RUCHE - ECPv4.7.4//NONSGML v1.0//EN
CALSCALE:GREGORIAN
METHOD:PUBLISH
X-WR-CALNAME:LA RUCHE
X-ORIGINAL-URL:https://www.cslaruche.fr
X-WR-CALDESC:évènements pour LA RUCHE
BEGIN:VEVENT
DTSTART;TZID=Europe/Paris:20221026T140000
DTEND;TZID=Europe/Paris:20221026T170000
DTSTAMP:20260424T035442
CREATED:20221011T125430Z
LAST-MODIFIED:20221026T095441Z
UID:16773-1666792800-1666803600@www.cslaruche.fr
SUMMARY:Citrouille d’halloween
DESCRIPTION:Citrouille d’halloween\n  \nLes citrouilles se transforment !  \nEn deux trois coups de couteau\, nous donnerons des visages aux potirons et autres citrouilles d’automne.  \nNous installerons de petites bougies à glisser à l’intérieur pour qu’elles brillent dans le noir.  \n\nINFORMATIONS PRATIQUES\n  \n\nEn famille\, à partir de 5 ans\nTous les membres de la famille sont bienvenus\n3€ par personne \nSauf exceptions\, adhésion obligatoire à LA RUCHE : 5 €.  Une seule adhésion par famille et par an. Si vous avez pris une adhésion dans le cadre de nos ateliers à l’année\, vous n’êtes pas concernés. Plus d’informations en cliquant ICI\nNouveau ! Paiement possible par Carte Bancaire  \n\n  \nPRÉCAUTIONS COVID-19 :\n\nLavez-vous régulièrement les mains\, toussez et éternuez dans votre coude.\nPortez un masque si vous êtes symptomatique ou à risque.\nCes recommandations peuvent évoluer en fonction de l’intensité de l’épidémie et des contraintes sanitaires.\n\n
URL:https://www.cslaruche.fr/evenement/citrouille-dhalloween/
LOCATION:Espace du Belin\, 34 rue des Frères Bailleul\, Laigné en Belin\, 72220\, France
ATTACH;FMTTYPE=image/jpeg:https://www.cslaruche.fr/wp-content/uploads/2022/10/citrouille-halloween.jpg
ORGANIZER;CN="LA%20RUCHE%2C%20Centre%20Social":MAILTO:accueil@cslaruche.fr
END:VEVENT
END:VCALENDAR