BEGIN:VCALENDAR
VERSION:2.0
PRODID:-//LA RUCHE - ECPv4.7.4//NONSGML v1.0//EN
CALSCALE:GREGORIAN
METHOD:PUBLISH
X-WR-CALNAME:LA RUCHE
X-ORIGINAL-URL:https://www.cslaruche.fr
X-WR-CALDESC:évènements pour LA RUCHE
BEGIN:VEVENT
DTSTART;TZID=Europe/Paris:20221222T173000
DTEND;TZID=Europe/Paris:20221222T183000
DTSTAMP:20260422T032842
CREATED:20221205T104948Z
LAST-MODIFIED:20230103T111234Z
UID:17319-1671730200-1671733800@www.cslaruche.fr
SUMMARY:Contes et Clochettes
DESCRIPTION:Contes et Clochettes\nJ-2 avant Noël ! \nNous vous proposons un dernier moment pour entrer dans la féérie des fêtes.  \nManuela Khechini\, de la compagnie Kamicréa nous proposera des lectures de contes enchantés sur le thème de Noël.  \nAccompagnée de clochettes\, elle adresse ses histoires aux enfants entre 5 et 12 ans.  \n  \nINFORMATIONS PRATIQUES\n  \n\nEn famille\, à partir de 5 ans\n3€ par personne\nTous les membres de la famille sont bienvenus\nSauf exceptions\, adhésion obligatoire à LA RUCHE : 5 €.  Une seule adhésion par famille et par an. Si vous avez pris une adhésion dans le cadre de nos ateliers à l’année\, vous n’êtes pas concernés. Plus d’informations en cliquant ICI\nNouveau ! Paiement possible par Carte Bancaire  \n\n  \nPRÉCAUTIONS COVID-19 :\n\nLavez-vous régulièrement les mains\, toussez et éternuez dans votre coude.\nPortez un masque si vous êtes symptomatique ou à risque.\nCes recommandations peuvent évoluer en fonction de l’intensité de l’épidémie et des contraintes sanitaires.\n\n
URL:https://www.cslaruche.fr/evenement/contes-et-clochettes/
LOCATION:Salle des fêtes L’audonienne\, 8 r Chemin Vert\, Saint Ouen en Belin\, 72220\, France
ATTACH;FMTTYPE=image/jpeg:https://www.cslaruche.fr/wp-content/uploads/2022/12/261802293_1249620848873681_8774958834079676209_n.jpg
ORGANIZER;CN="LA%20RUCHE%2C%20Centre%20Social":MAILTO:accueil@cslaruche.fr
END:VEVENT
END:VCALENDAR