BEGIN:VCALENDAR
VERSION:2.0
PRODID:-//LA RUCHE - ECPv4.7.4//NONSGML v1.0//EN
CALSCALE:GREGORIAN
METHOD:PUBLISH
X-WR-CALNAME:LA RUCHE
X-ORIGINAL-URL:https://www.cslaruche.fr
X-WR-CALDESC:évènements pour LA RUCHE
BEGIN:VEVENT
DTSTART;TZID=Europe/Paris:20221115T100000
DTEND;TZID=Europe/Paris:20221115T113000
DTSTAMP:20260423T143548
CREATED:20221026T192211Z
LAST-MODIFIED:20221116T080418Z
UID:16867-1668506400-1668511800@www.cslaruche.fr
SUMMARY:Créer en s’amusant
DESCRIPTION:Créer en s’amusant\n  \nPour ce nouvel atelier “ créer en s’amusant”\, les parents vous proposent un atelier Do It Yourself autour de la création de son propre dentifrice.  \nLes enfants sauront ainsi ce qu’ils étalent sur leurs brosses à dents et s’amuseront davantage de ce passage obligatoire.  \nUne bonne façon d’échanger autour des produits d’hygiène \, de leur composition et de leur utilisation au quotidien !  \nPour rappel\, il est toujours possible de participer à la proposition de thème et d’activité en contactant Luce\, notre référente familles : luce.bonvallet@cslaruche.fr !  \nINFORMATIONS PRATIQUES\n  \n\nEn famille\, à partir d’1 an\nTous les membres de la famille sont bienvenus\n2€ par personne \nChaque 2ème mardi matin du mois \nSauf exceptions\, adhésion obligatoire à LA RUCHE : 5 €.  Une seule adhésion par famille et par an. Si vous avez pris une adhésion dans le cadre de nos ateliers à l’année\, vous n’êtes pas concernés. Plus d’informations en cliquant ICI\nNouveau ! Paiement possible par Carte Bancaire\n\nPRÉCAUTIONS COVID-19 :\n\nLavez-vous régulièrement les mains\, toussez et éternuez dans votre coude.\nPortez un masque si vous êtes symptomatique ou à risque.\nCes recommandations peuvent évoluer en fonction de l’intensité de l’épidémie et des contraintes sanitaires.\n\n
URL:https://www.cslaruche.fr/evenement/creer-en-samusant-2/
LOCATION:LA RUCHE\, Espace du Belin\, 34 rue des Frères Bailleul\, Laigné-Saint-Gervais\, 72220\, France
ATTACH;FMTTYPE=image/jpeg:https://www.cslaruche.fr/wp-content/uploads/2022/10/family-morning-dental-cleaning-and-mother-teaching-child-to-brush-teeth-in-bathroom-care-for-mouth-health-and-smile-for-healthcare-with-toothbrush-girl-happy-learning-about-dentistry-with-mom.jpg
ORGANIZER;CN="LA%20RUCHE%2C%20Centre%20Social":MAILTO:accueil@cslaruche.fr
END:VEVENT
END:VCALENDAR