BEGIN:VCALENDAR
VERSION:2.0
PRODID:-//LA RUCHE - ECPv4.7.4//NONSGML v1.0//EN
CALSCALE:GREGORIAN
METHOD:PUBLISH
X-WR-CALNAME:LA RUCHE
X-ORIGINAL-URL:https://www.cslaruche.fr
X-WR-CALDESC:évènements pour LA RUCHE
BEGIN:VEVENT
DTSTART;TZID=Europe/Paris:20221213T100000
DTEND;TZID=Europe/Paris:20221213T113000
DTSTAMP:20260422T115004
CREATED:20221121T112953Z
LAST-MODIFIED:20221213T150232Z
UID:17182-1670925600-1670931000@www.cslaruche.fr
SUMMARY:Créer en s’amusant
DESCRIPTION:  Créer en s’amusant\n  \nA quelques jours des festivités de fin d’année\, les mamans de LA RUCHE vous propose une activité explosive !  \nEt si nous créons des catapultes à confettis ? Facile à mettre en place\, cette activité créatrice sera un bon moyen de faire pétiller vos réveillons en famille.  \nPour rappel\, il est toujours possible de participer à la proposition de thème et d’activité en contactant Luce\, notre référente familles : luce.bonvallet@cslaruche.fr ! \n  \nINFORMATIONS PRATIQUES\n  \n\nEn famille\nGratuit\nTous les membres de la famille sont bienvenus\nSauf exceptions\, adhésion obligatoire à LA RUCHE : 5 €.  Une seule adhésion par famille et par an. Si vous avez pris une adhésion dans le cadre de nos ateliers à l’année\, vous n’êtes pas concernés. Plus d’informations en cliquant ICI\nNouveau ! Paiement possible par Carte Bancaire  \n\n  \nPRÉCAUTIONS COVID-19 :\n\nLavez-vous régulièrement les mains\, toussez et éternuez dans votre coude.\nPortez un masque si vous êtes symptomatique ou à risque.\nCes recommandations peuvent évoluer en fonction de l’intensité de l’épidémie et des contraintes sanitaires.\n\n
URL:https://www.cslaruche.fr/evenement/creer-en-samusant-3/
LOCATION:LA RUCHE\, Espace du Belin\, 34 rue des Frères Bailleul\, Laigné-Saint-Gervais\, 72220\, France
ATTACH;FMTTYPE=image/jpeg:https://www.cslaruche.fr/wp-content/uploads/2022/11/créer-en-samusant.jpg
ORGANIZER;CN="LA%20RUCHE%2C%20Centre%20Social":MAILTO:accueil@cslaruche.fr
END:VEVENT
END:VCALENDAR