BEGIN:VCALENDAR
VERSION:2.0
PRODID:-//LA RUCHE - ECPv4.7.4//NONSGML v1.0//EN
CALSCALE:GREGORIAN
METHOD:PUBLISH
X-WR-CALNAME:LA RUCHE
X-ORIGINAL-URL:https://www.cslaruche.fr
X-WR-CALDESC:évènements pour LA RUCHE
BEGIN:VEVENT
DTSTART;TZID=Europe/Paris:20241016T170000
DTEND;TZID=Europe/Paris:20241016T180000
DTSTAMP:20260421T033126
CREATED:20240826T080024Z
LAST-MODIFIED:20241114T131317Z
UID:20158-1729098000-1729101600@www.cslaruche.fr
SUMMARY:Cyanotype
DESCRIPTION:Dans le cadre des Semaines de la Parentalité  \nAvec Manon\, médiathécaire à Moncé en Belin  \nNous profitons des semaines de la parentalité pour faire un voyage dans le temps et revenir dans une époque sans I-phone et appareil photo numérique.  \nMunis de substances permettant la captation des rayons du soleil\, nous découvrirons comment les jeux d’ombres et de lumières permettent d’imprimer les images sur une feuille.  \nMagique !  \nINFORMATIONS PRATIQUES \n\nEn famille\, à partir de 6 ans\nSur inscription\, jauge limitée\nGratuit\nTous les membres de la famille sont bienvenus\n\n
URL:https://www.cslaruche.fr/evenement/cyanotype-la-photo-autrement/
LOCATION:Médiathèque de Moncé\, Le Val'Rhonne\, Allée de l'Europe\, Moncé en Belin\, 72220\, France
ATTACH;FMTTYPE=image/jpeg:https://www.cslaruche.fr/wp-content/uploads/2024/07/cyanotype-scaled.jpg
ORGANIZER;CN="LA%20RUCHE%2C%20Centre%20Social":MAILTO:accueil@cslaruche.fr
END:VEVENT
END:VCALENDAR