BEGIN:VCALENDAR
VERSION:2.0
PRODID:-//LA RUCHE - ECPv4.7.4//NONSGML v1.0//EN
CALSCALE:GREGORIAN
METHOD:PUBLISH
X-WR-CALNAME:LA RUCHE
X-ORIGINAL-URL:https://www.cslaruche.fr
X-WR-CALDESC:évènements pour LA RUCHE
BEGIN:VEVENT
DTSTART;TZID=Europe/Paris:20230208T150000
DTEND;TZID=Europe/Paris:20230208T170000
DTSTAMP:20260421T120258
CREATED:20230123T092025Z
LAST-MODIFIED:20230209T084350Z
UID:17813-1675868400-1675875600@www.cslaruche.fr
SUMMARY:Défis et jeux en vrac
DESCRIPTION:Défis et jeux en vrac\nCo-organisé et co-animé avec le Service Jeunesse de la Communauté de Communes de l’Orée de Bercé Bélinois  \n  \nAprès-midi sur le thème du jeu\, avec dans un premier temps\, la découverte de jeux de société. Suivi de petits jeux d’équipes (Blind-test\, Times Up\, Quizz…).  \n  \nBref\, de quoi repartir avec le sourire et des idées de jeux à refaire en famille !  \n  \nINFORMATIONS PRATIQUES\n  \n\nEn famille\, de 8 à 16 ans\nGratuit  \nTous les membres de la famille sont bienvenus\nSauf exceptions\, adhésion obligatoire à LA RUCHE : 5 €.  Une seule adhésion par famille et par an. Si vous avez pris une adhésion dans le cadre de nos ateliers à l’année\, vous n’êtes pas concernés. Plus d’informations en cliquant ICI\nPaiement possible par Carte Bancaire  \n\n  \nPRÉCAUTIONS COVID-19 :\n\nLavez-vous régulièrement les mains\, toussez et éternuez dans votre coude.\nPortez un masque si vous êtes symptomatique ou à risque.\nCes recommandations peuvent évoluer en fonction de l’intensité de l’épidémie et des contraintes sanitaires.\n\n
URL:https://www.cslaruche.fr/evenement/defis-et-jeux-en-vrac/
LOCATION:Local Jeunes\, Saint Ouen\, chemin de la Houssaie\, Saint Ouen en Belin
ATTACH;FMTTYPE=image/jpeg:https://www.cslaruche.fr/wp-content/uploads/2023/01/défis-et-jeux.jpg
ORGANIZER;CN="LA%20RUCHE%2C%20Centre%20Social":MAILTO:accueil@cslaruche.fr
END:VEVENT
END:VCALENDAR