BEGIN:VCALENDAR
VERSION:2.0
PRODID:-//LA RUCHE - ECPv4.7.4//NONSGML v1.0//EN
CALSCALE:GREGORIAN
METHOD:PUBLISH
X-WR-CALNAME:LA RUCHE
X-ORIGINAL-URL:https://www.cslaruche.fr
X-WR-CALDESC:évènements pour LA RUCHE
BEGIN:VEVENT
DTSTART;TZID=Europe/Paris:20230314T153000
DTEND;TZID=Europe/Paris:20230314T190000
DTSTAMP:20260420T150915
CREATED:20230222T112926Z
LAST-MODIFIED:20230315T103603Z
UID:17981-1678807800-1678820400@www.cslaruche.fr
SUMMARY:Don du sang
DESCRIPTION:Don du Sang\n[ON LES SOUTIENT]\nJetez-vous à l’eau\, donnez votre sang ! \n  \nInformations pratiques\n\nRéservé aux adultes de 18 à 70 ans\nSur rendez-vous: mon-rdv-dondesang.efs.sante.fr\n\nOrganisé par l’Etablissement Français du Sang  \n  \n
URL:https://www.cslaruche.fr/evenement/don-du-sang-6/
LOCATION:La Belinoise\, rue de la Noé Gourdé\, Laigné en Belin\, 72220\, France
ATTACH;FMTTYPE=image/png:https://www.cslaruche.fr/wp-content/uploads/2022/07/don-du-sang.png
ORGANIZER;CN="LA%20RUCHE%2C%20Centre%20Social":MAILTO:accueil@cslaruche.fr
END:VEVENT
END:VCALENDAR