BEGIN:VCALENDAR
VERSION:2.0
PRODID:-//LA RUCHE - ECPv4.7.4//NONSGML v1.0//EN
CALSCALE:GREGORIAN
METHOD:PUBLISH
X-WR-CALNAME:LA RUCHE
X-ORIGINAL-URL:https://www.cslaruche.fr
X-WR-CALDESC:évènements pour LA RUCHE
BEGIN:VEVENT
DTSTART;TZID=Europe/Paris:20231108T100000
DTEND;TZID=Europe/Paris:20231220T113000
DTSTAMP:20260420T163234
CREATED:20231019T154151Z
LAST-MODIFIED:20240104T164826Z
UID:19184-1699437600-1703071800@www.cslaruche.fr
SUMMARY:Espace parents/enfants
DESCRIPTION:Espace parents/enfants\n  \nL’espace Parents Enfants itinérant s’installe à Ecommoy. \nL’école St Exupéry nous ouvre les portes de sa salle de motricité. \nA partir du mercredi 8 novembre\, seront à disposition modules de motricité\, circuits et petit train pour satisfaire et éveiller vos enfants.  \nC’est aussi le moment de souffler et de décompresser entre parents. \nLes horaires 10h-11h30 sont donnés à titre indicatif ; venez quand vous pouvez. \nEt si vous voulez juste venir pour papoter\, nous rencontrer\, c’est possible aussi ! Avec plaisir. \nOUVERTURES :\nMercredi : 8 et 22 novembre + 13 et 20 décembre \nSamedi : 18 novembre et 2 décembre \nINFORMATIONS PRATIQUES\n  \n\nEn famille\, dès la naissance et jusqu’à 4 ans\nDe 10h à 11h30\nGratuit pour les familles de notre territoire d’intervention (Laigné en Belin\, Saint Gervais en Belin\, Ecommoy\, Teloché\, Moncé en Belin et Saint Ouen en Belin) – 3€ par personne pour les autres familles. + d’informations en cliquant ICI\nTous les membres de la famille sont bienvenus\nSauf exceptions\, adhésion obligatoire à LA RUCHE : 5 €.  Une seule adhésion par famille et par an. Si vous avez pris une adhésion dans le cadre de nos ateliers à l’année\, vous n’êtes pas concernés. Plus d’informations en cliquant ICI\nPaiement possible par Carte Bancaire\n\n
URL:https://www.cslaruche.fr/evenement/espace-parents-enfants-11/
LOCATION:Ecole maternelle Saint Exupéry\, Allée de Fontenailles\, Ecommoy\, 72220\, France
ATTACH;FMTTYPE=image/jpeg:https://www.cslaruche.fr/wp-content/uploads/2023/10/espace-parents-enfants-2-.jpg
ORGANIZER;CN="LA%20RUCHE%2C%20Centre%20Social":MAILTO:accueil@cslaruche.fr
END:VEVENT
END:VCALENDAR