BEGIN:VCALENDAR
VERSION:2.0
PRODID:-//LA RUCHE - ECPv4.7.4//NONSGML v1.0//EN
CALSCALE:GREGORIAN
METHOD:PUBLISH
X-WR-CALNAME:LA RUCHE
X-ORIGINAL-URL:https://www.cslaruche.fr
X-WR-CALDESC:évènements pour LA RUCHE
BEGIN:VEVENT
DTSTART;TZID=Europe/Paris:20221203T100000
DTEND;TZID=Europe/Paris:20221203T110000
DTSTAMP:20260422T230246
CREATED:20221115T111846Z
LAST-MODIFIED:20221205T112525Z
UID:17010-1670061600-1670065200@www.cslaruche.fr
SUMMARY:Espace Parents Enfants
DESCRIPTION:Espace Parents Enfants\nSPECIAL TELETHON : PARTICIPATION AU CHAPEAU / DONNEZ CE QUE VOUS VOULEZ !\n  \nL’espace Parents Enfants est à l’Espace du Belin pour le Téléthon. \nAu programme : modules de motricité mais également un atelier récréatif de Noël ! \n  \nINFORMATIONS PRATIQUES\n  \n\nEn famille\, de la naissance à 4 ans\nSur inscription\nTous les membres de la famille sont bienvenus\nParticipation au chapeau / Donnez ce que vous voulez\n\nPRÉCAUTIONS COVID-19 :\n\nLavez-vous régulièrement les mains\, toussez et éternuez dans votre coude.\nPortez un masque si vous êtes symptomatique ou à risque.\nCes recommandations peuvent évoluer en fonction de l’intensité de l’épidémie et des contraintes sanitaires.\n\n
URL:https://www.cslaruche.fr/evenement/espace-parents-enfants-7/
LOCATION:Espace du Belin\, 34 rue des Frères Bailleul\, Laigné en Belin\, 72220\, France
ATTACH;FMTTYPE=image/jpeg:https://www.cslaruche.fr/wp-content/uploads/2022/10/espace-Parents-enfants-st-ouen.jpg
ORGANIZER;CN="LA%20RUCHE%2C%20Centre%20Social":MAILTO:accueil@cslaruche.fr
END:VEVENT
END:VCALENDAR