BEGIN:VCALENDAR
VERSION:2.0
PRODID:-//LA RUCHE - ECPv4.7.4//NONSGML v1.0//EN
CALSCALE:GREGORIAN
METHOD:PUBLISH
X-WR-CALNAME:LA RUCHE
X-ORIGINAL-URL:https://www.cslaruche.fr
X-WR-CALDESC:évènements pour LA RUCHE
BEGIN:VEVENT
DTSTART;TZID=Europe/Paris:20230301T100000
DTEND;TZID=Europe/Paris:20230503T110000
DTSTAMP:20260420T222116
CREATED:20230222T112459Z
LAST-MODIFIED:20230504T160813Z
UID:18224-1677664800-1683111600@www.cslaruche.fr
SUMMARY:Espace Parents Enfants
DESCRIPTION:Espace Parents Enfants\nL’espace Parents Enfants itinérant arrive à Laigné !  \nA partir du mercredi 1er mars\, nous serons accueillis à l’école Jean-Baptiste Galan.\nToujours avec des modules de motricité\, mais aussi des petites voitures et un circuit géant pour les faire rouler !   \nParents et enfants vont forcément trouver leur bonheur dans cet espace dédié à la famille… \n  \nRendez-vous entre 10h et 11h.  \nJus et boissons chaudes seront mises à disposition. \nLes dates d’ouvertures : \nMercredis : 1er\, 15 et 29 mars; 5\, 12\, 19 et 26 avril et 3 mai \nSamedis : 11 mars et 22 avril \n  \nINFORMATIONS PRATIQUES\n  \n\nEn famille\, de la naissance à 4 ans\nTous les membres de la famille sont bienvenus\nGratuit pour les familles de notre territoire d’intervention (Laigné en Belin\, Saint Gervais en Belin\, Ecommoy\, Teloché\, Moncé en Belin et Saint Ouen en Belin) – 3 € par personne pour les autres familles. + d’informations en cliquant ICI\nSauf exceptions\, adhésion obligatoire à LA RUCHE : 5 €.  Une seule adhésion par famille et par an. Si vous avez pris une adhésion dans le cadre de nos ateliers à l’année\, vous n’êtes pas concernés. Plus d’informations en cliquant ICI\nNouveau ! Paiement possible par Carte Bancaire\n\n  \nPRÉCAUTIONS COVID-19 :\n\nLavez-vous régulièrement les mains\, toussez et éternuez dans votre coude.\nPortez un masque si vous êtes symptomatique ou à risque.\nCes recommandations peuvent évoluer en fonction de l’intensité de l’épidémie et des contraintes sanitaires.\n\n
URL:https://www.cslaruche.fr/evenement/espace-parents-enfants-8/
LOCATION:Ecole Jean-Baptiste Galan\, 3 Rue de la Chesnaie\, Laigné en Belin\, 72220
ATTACH;FMTTYPE=image/jpeg:https://www.cslaruche.fr/wp-content/uploads/2023/02/La-Ruche-5S3A3903-HD.jpg
ORGANIZER;CN="LA%20RUCHE%2C%20Centre%20Social":MAILTO:accueil@cslaruche.fr
END:VEVENT
END:VCALENDAR