BEGIN:VCALENDAR
VERSION:2.0
PRODID:-//LA RUCHE - ECPv4.7.4//NONSGML v1.0//EN
CALSCALE:GREGORIAN
METHOD:PUBLISH
X-WR-CALNAME:LA RUCHE
X-ORIGINAL-URL:https://www.cslaruche.fr
X-WR-CALDESC:évènements pour LA RUCHE
BEGIN:VEVENT
DTSTART;TZID=Europe/Paris:20240127T100000
DTEND;TZID=Europe/Paris:20240127T113000
DTSTAMP:20260421T083425
CREATED:20240109T093329Z
LAST-MODIFIED:20240208T162226Z
UID:19385-1706349600-1706355000@www.cslaruche.fr
SUMMARY:Eveil Musical 
DESCRIPTION:Eveil Musical \n  \nEn partenariat avec la Clé d’Orée\, école de musique de la CdC de l’Orée de Bercé Belinois \n  \nTout au long de l’année\, nous proposerons désormais des temps d’éveils musicaux pour les familles avec leurs jeunes enfants de 2 à 6 ans avec la présence de Ludmilla \, professeur de flûte.  \n  \nDeux créneaux distincts :  \n10h à 10h40 pour les 2-3 ans  \n10h45 à 11h30 pour les 4-6 ans \n  \nINFORMATIONS PRATIQUES\n  \n\nEn famille\, dès 2 ans\nGratuit\nSur inscription\, jauge limitée\nTous les membres de la famille sont bienvenus\n\n
URL:https://www.cslaruche.fr/evenement/eveil-musical-2/
LOCATION:Ecole Claire Fontaine\, Saint Ouen en Belin\, France
ATTACH;FMTTYPE=image/jpeg:https://www.cslaruche.fr/wp-content/uploads/2024/01/Eveil-musical.jpg
ORGANIZER;CN="LA%20RUCHE%2C%20Centre%20Social":MAILTO:accueil@cslaruche.fr
END:VEVENT
END:VCALENDAR