BEGIN:VCALENDAR
VERSION:2.0
PRODID:-//LA RUCHE - ECPv4.7.4//NONSGML v1.0//EN
CALSCALE:GREGORIAN
METHOD:PUBLISH
X-WR-CALNAME:LA RUCHE
X-ORIGINAL-URL:https://www.cslaruche.fr
X-WR-CALDESC:évènements pour LA RUCHE
BEGIN:VEVENT
DTSTART;TZID=Europe/Paris:20241017T200000
DTEND;TZID=Europe/Paris:20241017T220000
DTSTAMP:20260423T081631
CREATED:20240826T080029Z
LAST-MODIFIED:20241114T131311Z
UID:20161-1729195200-1729202400@www.cslaruche.fr
SUMMARY:Faites des gosses...
DESCRIPTION:En partenariat avec le service petite enfance de l’Orée de Bercé Belinois. \nAvec Adélie Truillet et Lyse Poisson\, mamans et comédiennes. Agathe Gaumé\, également présente\, nous permettra de mieux comprendre ce qui se joue avec nos enfants et nous partagera quelques outils concrets pour faciliter ce quotidien en famille.  \nSoirée catégorie improbable ! Et si durant 2h\, nous pouvions tout dire\, tout lâcher\, tout avouer ?  \nAu travers de mises en scène cocasses et réalistes\, Adélie et Lyse nous partageront leurs regards sur le quotidien familial lorsque nos enfants font déborder le vase\, que notre patience est mise à rude épreuve.  \nElles invitent ceux qui le veulent à participer et partager leurs vécus.  \nPrenant un autre point de vue\, elles se pencheront aussi du côté des enfants ; que se jouent-ils pour eux dans toute cette histoire ?  \nAgathe Gaumé sera présente pour nous partager\, avec plus de recul et de distance\, quelques-unes de ses connaissances.  \nUne soirée riche en retour d’expériences et dérision. \nINFORMATIONS PRATIQUES \n\nEntre adultes\nSur inscription\nGratuit\n\n
URL:https://www.cslaruche.fr/evenement/faites-des-gosses-quils-disaient-2/
LOCATION:Auditorium de l’école de musique\, Laigné en Belin
ATTACH;FMTTYPE=image/jpeg:https://www.cslaruche.fr/wp-content/uploads/2024/08/1727265652670-4-1-scaled.jpg
ORGANIZER;CN="LA%20RUCHE%2C%20Centre%20Social":MAILTO:accueil@cslaruche.fr
END:VEVENT
END:VCALENDAR