BEGIN:VCALENDAR
VERSION:2.0
PRODID:-//LA RUCHE - ECPv4.7.4//NONSGML v1.0//EN
CALSCALE:GREGORIAN
METHOD:PUBLISH
X-WR-CALNAME:LA RUCHE
X-ORIGINAL-URL:https://www.cslaruche.fr
X-WR-CALDESC:évènements pour LA RUCHE
BEGIN:VEVENT
DTSTART;TZID=Europe/Paris:20230210T183000
DTEND;TZID=Europe/Paris:20230210T220000
DTSTAMP:20260421T104634
CREATED:20230123T093255Z
LAST-MODIFIED:20230227T101807Z
UID:17818-1676053800-1676066400@www.cslaruche.fr
SUMMARY:Fiesta Pizza !
DESCRIPTION:Fiesta Pizza !\n  \nSoirée festive avec des babysitters pour les enfants et Quartier Libre pour les parents ! \nDes jeunes du service Babysit’o.B.b accueilleront vos enfants à l’accueil périscolaire de Laigné en Belin ; vous pourrez ainsi les rencontrer et qui sait ? garder leur contact pour une soirée où vous auriez besoin d’un mode de garde.  \n  \nAu programme : préparation et dégustation de pizzas maison suivie de jeux .  \n  \nINFORMATIONS PRATIQUES\n  \n\nEnfants de 3 à 12 ans\n3€ par personne pour les familles de notre territoire d’intervention (Laigné en Belin\, Saint Gervais en Belin\, Ecommoy\, Teloché\, Moncé en Belin et Saint Ouen en Belin) – 6€ par personne pour les autres familles. + d’informations en cliquant ICI\nSauf exceptions\, adhésion obligatoire à LA RUCHE : 5 €.  Une seule adhésion par famille et par an. Si vous avez pris une adhésion dans le cadre de nos ateliers à l’année\, vous n’êtes pas concernés. Plus d’informations en cliquant ICI\nPaiement possible par Carte Bancaire  \n\nPRÉCAUTIONS COVID-19 :\n\nLavez-vous régulièrement les mains\, toussez et éternuez dans votre coude.\nPortez un masque si vous êtes symptomatique ou à risque.\nCes recommandations peuvent évoluer en fonction de l’intensité de l’épidémie et des contraintes sanitaires.\n\n
URL:https://www.cslaruche.fr/evenement/fiesta-pizza-4/
LOCATION:Espace du Belin\, 34 rue des Frères Bailleul\, Laigné en Belin\, 72220\, France
ATTACH;FMTTYPE=image/jpeg:https://www.cslaruche.fr/wp-content/uploads/2023/01/fiesta-pizza.jpg
ORGANIZER;CN="LA%20RUCHE%2C%20Centre%20Social":MAILTO:accueil@cslaruche.fr
END:VEVENT
END:VCALENDAR