BEGIN:VCALENDAR
VERSION:2.0
PRODID:-//LA RUCHE - ECPv4.7.4//NONSGML v1.0//EN
CALSCALE:GREGORIAN
METHOD:PUBLISH
X-WR-CALNAME:LA RUCHE
X-ORIGINAL-URL:https://www.cslaruche.fr
X-WR-CALDESC:évènements pour LA RUCHE
BEGIN:VEVENT
DTSTART;TZID=Europe/Paris:20231020T183000
DTEND;TZID=Europe/Paris:20231020T220000
DTSTAMP:20260421T015640
CREATED:20231002T093313Z
LAST-MODIFIED:20231023T115735Z
UID:19114-1697826600-1697839200@www.cslaruche.fr
SUMMARY:Fiesta Pizza d'Halloween !
DESCRIPTION:Fiesta Pizza spécial Halloween \nou Quartier libre pour les parents ! \n  \nPour cette reprise des Fiesta Pizza\, nous vous proposons une soirée spéciale enfants à Saint Ouen en Belin \nAu programme: soirée déguisée\, préparation et dégustation de pizza\, jeux et histoires qui font (un peu) peur !  \n  \nDes jeunes du service Babysit’o.B.b seront présents avec Arthur\, notre animateur familles ; vous pourrez ainsi les rencontrer et qui sait ? garder leur contact pour une soirée où vous auriez besoin d’un mode de garde. \n  \nINFORMATIONS PRATIQUES\n  \n\nEnfants à partir de 3 ans\nDéguisez (ou pas) vos enfants pour la soirée !\n3€ par personne pour les familles de notre territoire d’intervention (Laigné en Belin\, Saint Gervais en Belin\, Ecommoy\, Teloché\, Moncé en Belin et Saint Ouen en Belin) –  6€ par personne pour les autres familles. + d’informations en cliquant ICI\nSauf exceptions\, adhésion obligatoire à LA RUCHE : 5 €.  Une seule adhésion par famille et par an. Si vous avez pris une adhésion dans le cadre de nos ateliers à l’année\, vous n’êtes pas concernés. Plus d’informations en cliquant ICI\nPaiement possible par Carte Bancaire  \n\n
URL:https://www.cslaruche.fr/evenement/fiesta-pizza-6/
LOCATION:Ecole publique de Saint Ouen\, 26 rue Saint Mamert\, Saint Ouen en Belin\, 72220\, France
ATTACH;FMTTYPE=image/jpeg:https://www.cslaruche.fr/wp-content/uploads/2023/10/fiesta-pizza.jpg
ORGANIZER;CN="LA%20RUCHE%2C%20Centre%20Social":MAILTO:accueil@cslaruche.fr
END:VEVENT
END:VCALENDAR