BEGIN:VCALENDAR
VERSION:2.0
PRODID:-//LA RUCHE - ECPv4.7.4//NONSGML v1.0//EN
CALSCALE:GREGORIAN
METHOD:PUBLISH
X-WR-CALNAME:LA RUCHE
X-ORIGINAL-URL:https://www.cslaruche.fr
X-WR-CALDESC:évènements pour LA RUCHE
BEGIN:VEVENT
DTSTART;TZID=Europe/Paris:20230223T090000
DTEND;TZID=Europe/Paris:20230224T173000
DTSTAMP:20260421T045603
CREATED:20230123T110410Z
LAST-MODIFIED:20230223T172028Z
UID:17840-1677142800-1677259800@www.cslaruche.fr
SUMMARY:Formation Babysit’o.B.b
DESCRIPTION:Formation Babysit’o.B.b \n  \nCo organisé avec le Point Info Jeunesse d’Ecommoy \n  \nLe Point Info Jeunesse et LA RUCHE  proposent aux jeunes de s’initier au babysitting.  \nDurant deux jours consécutifs\, ils découvrent rythme de l’enfant\, petits jeux\, comment échanger avec les parents mais aussi les premiers secours. La Croix blanche leur dispensera ainsi les gestes qui sauvent pour les nourrissons.  \nSuite à cela\, nous facilitons la mise en relation parents / baby sitters tout au long de l’année et restons disponibles au besoin. \n  \nINFORMATIONS PRATIQUES\n  \n\nA partir de 16 ans\nDe 9h à 17h30\n10 € par personne \nSauf exceptions\, adhésion obligatoire à LA RUCHE : 5 €.  Une seule adhésion par famille et par an. Si vous avez pris une adhésion dans le cadre de nos ateliers à l’année\, vous n’êtes pas concernés. Plus d’informations en cliquant ICI\n\n\nPRÉCAUTIONS COVID-19 :\n\nLavez-vous régulièrement les mains\, toussez et éternuez dans votre coude.\nPortez un masque si vous êtes symptomatique ou à risque.\nCes recommandations peuvent évoluer en fonction de l’intensité de l’épidémie et des contraintes sanitaires. \n\n
URL:https://www.cslaruche.fr/evenement/formation-babysito-b-b-2/
LOCATION:Hôtel Communautaire\, 1 rue Sainte Anne\, Ecommoy\, 72220\, France
ATTACH;FMTTYPE=image/jpeg:https://www.cslaruche.fr/wp-content/uploads/2023/01/formation-Babysitting.jpg
ORGANIZER;CN="LA%20RUCHE%2C%20Centre%20Social":MAILTO:accueil@cslaruche.fr
END:VEVENT
END:VCALENDAR