BEGIN:VCALENDAR
VERSION:2.0
PRODID:-//LA RUCHE - ECPv4.7.4//NONSGML v1.0//EN
CALSCALE:GREGORIAN
METHOD:PUBLISH
X-WR-CALNAME:LA RUCHE
X-ORIGINAL-URL:https://www.cslaruche.fr
X-WR-CALDESC:évènements pour LA RUCHE
BEGIN:VEVENT
DTSTART;TZID=Europe/Paris:20231102T090000
DTEND;TZID=Europe/Paris:20231103T173000
DTSTAMP:20260420T191543
CREATED:20231017T102155Z
LAST-MODIFIED:20231106T151602Z
UID:19168-1698915600-1699032600@www.cslaruche.fr
SUMMARY:Formation Babysit’o.B.b
DESCRIPTION:Formation Babysit’o.B.b\n  \navec Adrien\, du Point Info Jeunesse de la CDC de l’Orée de Bercé-Belinois \n  \nLe Point Info Jeunesse et LA RUCHE  proposent aux jeunes de s’initier au babysitting.  \n  \nDurant deux jours consécutifs\, ils découvrent rythme de l’enfant\, petits jeux\, comment échanger avec les parents mais aussi les premiers secours. Ils recevront également une sensibilisation aux gestes qui sauvent pour les nourrissons et jeunes enfants ainsi qu’un temps dédié au droit du travail. \n  \nSuite à cela\, nous facilitons la mise en relation parents / baby sitters tout au long de l’année et restons disponibles au besoin.  \n  \nN’hésitez pas à nous faire part de vos besoins de modes de gardes ( occasionnels ou réguliers ) à babysittingbelinois@gmail.com .  \n  \nINFORMATIONS PRATIQUES\n  \n\nPour les jeunes\, à partir de 16 ans\nDe 9h à 17h30\nRendez-vous place des Olympiades\n10€ par personne pour l’ensemble des jeunes résidant sur la communauté de communes de l’Orée de Bercé-Belinois. \nPaiement possible par Carte Bancaire  \n\n
URL:https://www.cslaruche.fr/evenement/formation-babysito-b-b-3/
LOCATION:Salle des banquets\, Rue du 8 mai\, Teloché\, 72220\, France
ATTACH;FMTTYPE=image/jpeg:https://www.cslaruche.fr/wp-content/uploads/2023/10/formation-babysitting-1.jpg
ORGANIZER;CN="LA%20RUCHE%2C%20Centre%20Social":MAILTO:accueil@cslaruche.fr
END:VEVENT
END:VCALENDAR