BEGIN:VCALENDAR
VERSION:2.0
PRODID:-//LA RUCHE - ECPv4.7.4//NONSGML v1.0//EN
CALSCALE:GREGORIAN
METHOD:PUBLISH
X-WR-CALNAME:LA RUCHE
X-ORIGINAL-URL:https://www.cslaruche.fr
X-WR-CALDESC:évènements pour LA RUCHE
BEGIN:VEVENT
DTSTART;TZID=Europe/Paris:20221027T090000
DTEND;TZID=Europe/Paris:20221028T173000
DTSTAMP:20260424T023534
CREATED:20221006T072725Z
LAST-MODIFIED:20221122T103355Z
UID:16666-1666861200-1666978200@www.cslaruche.fr
SUMMARY:Formation Babysit’o.B.b
DESCRIPTION:Formation Babysit’o.B.b \nCo organisé avec le Point Info Jeunesse d’Ecommoy \nLe Point Info Jeunesse et LA RUCHE  proposent aux jeunes de s’initier au babysitting.  \nDurant deux jours consécutifs\, ils découvrent rythme de l’enfant\, petits jeux\, comment échanger avec les parents mais aussi les premiers secours. Ils recevront également une sensibilisation aux gestes qui sauvent pour les nourrissons et jeunes enfants ainsi qu’un temps dédié au droit du travail.\n \nSuite à cela\, nous facilitons la mise en relation parents / baby sitters tout au long de l’année et restons disponibles au besoin. \n  \nINFORMATIONS PRATIQUES\n  \n\nA partir de 16 ans\n10 € par personne \nSauf exceptions\, adhésion obligatoire à LA RUCHE : 5 €.  Une seule adhésion par famille et par an. Si vous avez pris une adhésion dans le cadre de nos ateliers à l’année\, vous n’êtes pas concernés. Plus d’informations en cliquant ICI\n\n  \nPRÉCAUTIONS COVID-19 :\n\nLavez-vous régulièrement les mains\, toussez et éternuez dans votre coude.\nPortez un masque si vous êtes symptomatique ou à risque.\nCes recommandations peuvent évoluer en fonction de l’intensité de l’épidémie et des contraintes sanitaires.\n\n
URL:https://www.cslaruche.fr/evenement/formation-babysito-b-b/
LOCATION:Accueil périscolaire de Marigné Laillé\, 1 le bourg\, Marigné Laillé\, 72220\, France
ATTACH;FMTTYPE=image/jpeg:https://www.cslaruche.fr/wp-content/uploads/2022/10/formation-babysitoBb.jpg
ORGANIZER;CN="LA%20RUCHE%2C%20Centre%20Social":MAILTO:accueil@cslaruche.fr
END:VEVENT
END:VCALENDAR