BEGIN:VCALENDAR
VERSION:2.0
PRODID:-//LA RUCHE - ECPv4.7.4//NONSGML v1.0//EN
CALSCALE:GREGORIAN
METHOD:PUBLISH
X-WR-CALNAME:LA RUCHE
X-ORIGINAL-URL:https://www.cslaruche.fr
X-WR-CALDESC:évènements pour LA RUCHE
BEGIN:VEVENT
DTSTART;TZID=Europe/Paris:20241024T090000
DTEND;TZID=Europe/Paris:20241025T170000
DTSTAMP:20260421T021420
CREATED:20240826T080012Z
LAST-MODIFIED:20241114T131256Z
UID:20166-1729760400-1729875600@www.cslaruche.fr
SUMMARY:Formation Babysit’oBb
DESCRIPTION:Avec Adrien Jarry du Point Info Jeunesse de l’Orée de Bercé Bélinois \nDurant deux jours\, nous proposons une session de sensibilisation aux rudiments du babysitting ; droit du travail\, connaissances de l’enfant\, jeux et langage adaptés\, mais aussi initiation aux gestes qui sauvent dédiée aux enfants et nourrissons avec une professionnelle certifiée.  \nSuite à cela\, les jeunes entrent dans notre réseau de babysitteurs\, leur permettant d’être mis directement en relation avec les parents en recherche d’un mode de garde pour leurs enfants.  \nProximité garantie ! Ce service est exclusivement réservé aux habitants de la communauté de communes. \nSuite à cela\, de 18h à 20h\, nous nous rendrons à la Belinoise où se déroulera les 10h du jeux pour rencontrer les familles présentes… une bonne façon de se faire du réseau. (Non obligatoire)  \nINFORMATIONS PRATIQUES \n\nEntre jeunes\, à partir de 16 ans\nSur inscription\, jauge limitée\n10€ par personne \nPaiement possible par Carte Bancaire \n\n
URL:https://www.cslaruche.fr/evenement/formation-babysitobb/
LOCATION:LA RUCHE\, Espace du Belin\, 34 rue des Frères Bailleul\, Laigné-Saint-Gervais\, 72220\, France
ATTACH;FMTTYPE=image/jpeg:https://www.cslaruche.fr/wp-content/uploads/2024/07/IMG_1879-1-scaled.jpg
ORGANIZER;CN="LA%20RUCHE%2C%20Centre%20Social":MAILTO:accueil@cslaruche.fr
END:VEVENT
END:VCALENDAR