BEGIN:VCALENDAR
VERSION:2.0
PRODID:-//LA RUCHE - ECPv4.7.4//NONSGML v1.0//EN
CALSCALE:GREGORIAN
METHOD:PUBLISH
X-WR-CALNAME:LA RUCHE
X-ORIGINAL-URL:https://www.cslaruche.fr
X-WR-CALDESC:évènements pour LA RUCHE
BEGIN:VEVENT
DTSTART;TZID=Europe/Paris:20230228T170000
DTEND;TZID=Europe/Paris:20230228T180000
DTSTAMP:20260420T233239
CREATED:20230206T102415Z
LAST-MODIFIED:20230301T083535Z
UID:18003-1677603600-1677607200@www.cslaruche.fr
SUMMARY:Goûter Dynamik
DESCRIPTION:Goûter Dynamik\n  \nA LA RUCHE \, les mamans ont du talent et regorgent d’idées. \nAinsi Lorène et Sandra vous proposent un rendez vous mensuel : le goûter dynamik’. \nLes quatrièmes mardis du mois\, venez entre 17h et 18h le temps d’un goûter salé et de petits jeux sportifs avec vos enfants de 3 à 5 ans. \nDifférentes propositions seront faites au cours du temps toujours dans l’idée d’un moment propice à se défouler en fin de journée. \nINFORMATIONS PRATIQUES\n  \n\nEn famille\, de 3 à 5 ans\nTous les membres de la famille sont bienvenus\n1€ par personne ou 3€ pour les personnes hors territoire\nSauf exceptions\, adhésion obligatoire à LA RUCHE : 5 €.  Une seule adhésion par famille et par an. Si vous avez pris une adhésion dans le cadre de nos ateliers à l’année\, vous n’êtes pas concernés. Plus d’informations en cliquant ICI\nNouveau ! Paiement possible par Carte Bancaire\n\n  \nPRÉCAUTIONS COVID-19 :\n\nLavez-vous régulièrement les mains\, toussez et éternuez dans votre coude.\nPortez un masque si vous êtes symptomatique ou à risque.\nCes recommandations peuvent évoluer en fonction de l’intensité de l’épidémie et des contraintes sanitaires.\n\n
URL:https://www.cslaruche.fr/evenement/gouter-dynamik-4/
LOCATION:LA RUCHE\, Espace du Belin\, 34 rue des Frères Bailleul\, Laigné-Saint-Gervais\, 72220\, France
ATTACH;FMTTYPE=image/jpeg:https://www.cslaruche.fr/wp-content/uploads/2023/02/outer-space-icons-drawing-graphics-concept2.jpg
ORGANIZER;CN="LA%20RUCHE%2C%20Centre%20Social":MAILTO:accueil@cslaruche.fr
END:VEVENT
END:VCALENDAR