BEGIN:VCALENDAR
VERSION:2.0
PRODID:-//LA RUCHE - ECPv4.7.4//NONSGML v1.0//EN
CALSCALE:GREGORIAN
METHOD:PUBLISH
X-WR-CALNAME:LA RUCHE
X-ORIGINAL-URL:https://www.cslaruche.fr
X-WR-CALDESC:évènements pour LA RUCHE
BEGIN:VEVENT
DTSTART;TZID=Europe/Paris:20221203T170000
DTEND;TZID=Europe/Paris:20221203T173000
DTSTAMP:20260422T193949
CREATED:20221115T111709Z
LAST-MODIFIED:20221205T112554Z
UID:17029-1670086800-1670088600@www.cslaruche.fr
SUMMARY:Grands Lecteurs de Noël
DESCRIPTION:Grands Lecteurs de Noël\nCo-organisé avec la médiathèque de Laigné-St Gervais \nSPECIAL TELETHON : PARTICIPATION AU CHAPEAU / DONNEZ CE QUE VOUS VOULEZ !\n  \nÀ l’approche des fêtes de fin d’année\, Nicolas\, bibliothécaire de Laigné-St Gervais nous concocte une série d’albums jeunesse aux couleurs de Noël.  \nINFORMATIONS PRATIQUES\n  \n\nEn famille\, de 4 ans à 7 ans\nTous les membres de la famille sont bienvenus\nSur inscription\n\nPRÉCAUTIONS COVID-19 :\n\nLavez-vous régulièrement les mains\, toussez et éternuez dans votre coude.\nPortez un masque si vous êtes symptomatique ou à risque.\nCes recommandations peuvent évoluer en fonction de l’intensité de l’épidémie et des contraintes sanitaires.\n\n\nEn partenariat avec le SIVOM Laigné et St Gervais en Belin \n\n
URL:https://www.cslaruche.fr/evenement/grands-lecteurs-de-noel/
LOCATION:Espace du Belin\, 34 rue des Frères Bailleul\, Laigné en Belin\, 72220\, France
ATTACH;FMTTYPE=image/jpeg:https://www.cslaruche.fr/wp-content/uploads/2022/11/child-reading-enchanted-book.jpg
END:VEVENT
END:VCALENDAR