BEGIN:VCALENDAR
VERSION:2.0
PRODID:-//LA RUCHE - ECPv4.7.4//NONSGML v1.0//EN
CALSCALE:GREGORIAN
METHOD:PUBLISH
X-WR-CALNAME:LA RUCHE
X-ORIGINAL-URL:https://www.cslaruche.fr
X-WR-CALDESC:évènements pour LA RUCHE
BEGIN:VEVENT
DTSTART;TZID=Europe/Paris:20231028T140000
DTEND;TZID=Europe/Paris:20231028T170000
DTSTAMP:20260420T220038
CREATED:20231017T101544Z
LAST-MODIFIED:20231106T151612Z
UID:19165-1698501600-1698512400@www.cslaruche.fr
SUMMARY:Halloween
DESCRIPTION:Halloween\n  \nco-organisé avec le Val’Rhonne de Moncé en Belin \n  \nDes responsables du Val’Rhonne aux membres du bureau de LA RUCHE en passant par son équipe de salariés\, nous serons une sacrée équipe pour vous faire profiter d’Halloween et de son univers des plus … ensorcelants !  \n  \nPlace aux fantômes\, aux vampires\, aux vieilles sorcières le temps d’une après-midi pour vous proposer défis surprenants\, maquillages sanguinolents\, boissons & bonbons\, histoires qui font peur … un petit peu.  \nManuela Kechini sera présente avec contes et kamishibaï pour l’occasion.  \n  \nComme chaque année\, rendez vous à la Belinoise le 28 octobre déguisés de vos vêtements les plus sombres.  \n  \nINFORMATIONS PRATIQUES\n\nEn famille\, à partir de 2 ans\nGratuit\nTous les membres de la famille sont bienvenus \n\n
URL:https://www.cslaruche.fr/evenement/halloween-4/
LOCATION:La Belinoise\, rue de la Noé Gourdé\, Laigné en Belin\, 72220\, France
ATTACH;FMTTYPE=image/jpeg:https://www.cslaruche.fr/wp-content/uploads/2023/10/halloween.jpg
ORGANIZER;CN="LA%20RUCHE%2C%20Centre%20Social":MAILTO:accueil@cslaruche.fr
END:VEVENT
END:VCALENDAR