BEGIN:VCALENDAR
VERSION:2.0
PRODID:-//LA RUCHE - ECPv4.7.4//NONSGML v1.0//EN
CALSCALE:GREGORIAN
METHOD:PUBLISH
X-WR-CALNAME:LA RUCHE
X-ORIGINAL-URL:https://www.cslaruche.fr
X-WR-CALDESC:évènements pour LA RUCHE
BEGIN:VEVENT
DTSTART;TZID=Europe/Paris:20230225T140000
DTEND;TZID=Europe/Paris:20230225T173000
DTSTAMP:20260421T021527
CREATED:20230206T093749Z
LAST-MODIFIED:20230223T172019Z
UID:17986-1677333600-1677346200@www.cslaruche.fr
SUMMARY:Handi-Handball
DESCRIPTION:Handi-Handball\n  \nNous vous invitons à venir découvrir la pratique du handi-sport\, plus particulièrement\, celle du hand-fauteuil\, le but étant de mixer de manière originale les personnes en situation de handicap et les personnes valides par le biais de la pratique adaptée du handball. \n  \nEnsemble\, c’est plus marrant\, et on apprend. \n  \nINFORMATIONS PRATIQUES\n  \n\nEn famille\, de 8 à 16 ans\nTous les membres de la famille sont bienvenus\n3€ par personne pour les familles de notre territoire d’intervention (Laigné en Belin\, Saint Gervais en Belin\, Ecommoy\, Teloché\, Moncé en Belin et Saint Ouen en Belin) – 6€ par personne pour les autres familles. + d’informations en cliquant ICI\nSauf exceptions\, adhésion obligatoire à LA RUCHE : 5 €.  Une seule adhésion par famille et par an. Si vous avez pris une adhésion dans le cadre de nos ateliers à l’année\, vous n’êtes pas concernés. Plus d’informations en cliquant ICI\nNouveau ! Paiement possible par Carte Bancaire  \n\n\nPRÉCAUTIONS COVID-19 :\n\nLavez-vous régulièrement les mains\, toussez et éternuez dans votre coude.\nPortez un masque si vous êtes symptomatique ou à risque.\nCes recommandations peuvent évoluer en fonction de l’intensité de l’épidémie et des contraintes sanitaires.\n\n
URL:https://www.cslaruche.fr/evenement/handi-handball/
LOCATION:Gymnase\, Place des Olympiades\, Teloché\, 72220
ATTACH;FMTTYPE=image/jpeg:https://www.cslaruche.fr/wp-content/uploads/2023/02/Handihand.jpg
ORGANIZER;CN="LA%20RUCHE%2C%20Centre%20Social":MAILTO:accueil@cslaruche.fr
END:VEVENT
END:VCALENDAR