BEGIN:VCALENDAR
VERSION:2.0
PRODID:-//LA RUCHE - ECPv4.7.4//NONSGML v1.0//EN
CALSCALE:GREGORIAN
METHOD:PUBLISH
X-WR-CALNAME:LA RUCHE
X-ORIGINAL-URL:https://www.cslaruche.fr
X-WR-CALDESC:évènements pour LA RUCHE
BEGIN:VEVENT
DTSTART;TZID=Europe/Paris:20221105T143000
DTEND;TZID=Europe/Paris:20221105T163000
DTSTAMP:20260423T195033
CREATED:20221011T092758Z
LAST-MODIFIED:20221107T110058Z
UID:16741-1667658600-1667665800@www.cslaruche.fr
SUMMARY:Je grimpe\, j’escalade !
DESCRIPTION:Je grimpe\, j’escalade !\n  \nNous vous proposons de découvrir Vertical’art installé au Mans.  \nEntre bloc et mur d’escalade\, un moniteur sera présent pour aiguiller les plus novices ou challenger les plus avertis.  \nUn bel exercice où tous les membres de la famille sauront révéler et développer complémentarité et complicité !  \nLes chaussures sont fournies. Le goûter aussi !  \nINFORMATIONS PRATIQUES\n  \n\nEn famille\, à partir de 6 ans\n4€ par personne\nTous les membres de la famille sont bienvenus\nPossibilité de covoiturage à partir de Laigné ou rendez vous à l’espace Vertical’Art au Mans\, 30 boulevard d’Estienne d’Orves\nSauf exceptions\, adhésion obligatoire à LA RUCHE : 5 €.  Une seule adhésion par famille et par an. Si vous avez pris une adhésion dans le cadre de nos ateliers à l’année\, vous n’êtes pas concernés. Plus d’informations en cliquant ICI\nNouveau ! Paiement possible par Carte Bancaire\n\nPRÉCAUTIONS COVID-19 :\n\nLavez-vous régulièrement les mains\, toussez et éternuez dans votre coude.\nPortez un masque si vous êtes symptomatique ou à risque.\nCes recommandations peuvent évoluer en fonction de l’intensité de l’épidémie et des contraintes sanitaires.\n\n
URL:https://www.cslaruche.fr/evenement/je-grimpe-jescalade-2/
LOCATION:Vertical’art\, 30 Bd d'Estienne d'Orves\, Le Mans\, 72000
ATTACH;FMTTYPE=image/jpeg:https://www.cslaruche.fr/wp-content/uploads/2021/08/vertical_art.jpeg
ORGANIZER;CN="LA%20RUCHE%2C%20Centre%20Social":MAILTO:accueil@cslaruche.fr
END:VEVENT
END:VCALENDAR