BEGIN:VCALENDAR
VERSION:2.0
PRODID:-//LA RUCHE - ECPv4.7.4//NONSGML v1.0//EN
CALSCALE:GREGORIAN
METHOD:PUBLISH
X-WR-CALNAME:LA RUCHE
X-ORIGINAL-URL:https://www.cslaruche.fr
X-WR-CALDESC:évènements pour LA RUCHE
BEGIN:VEVENT
DTSTART;TZID=Europe/Paris:20221102T093000
DTEND;TZID=Europe/Paris:20221102T123000
DTSTAMP:20260424T001140
CREATED:20221011T095220Z
LAST-MODIFIED:20221102T081352Z
UID:16675-1667381400-1667392200@www.cslaruche.fr
SUMMARY:Jeux de mises en scène
DESCRIPTION:Jeux de mises en scène\n  \nLe temps d’une matinée\, et après une mise en route ludique\, vous vous essayerez en famille à l’interprétation de différents personnages et de différentes situations !  \nSous le regard bienveillant et avisé de Sandrine Rouault (comédienne professionnelle) vous serez guidés pour faire vivre et faire évoluer votre imaginaire sur scène ! L’intervenante mettra à votre disposition quelques accessoires et costumes.  \nUn temps (ré)créatif en famille\, accessible à tous et pour se (re)découvrir autrement ! \nINFORMATIONS PRATIQUES\n  \n\nEn famille\, à partir de 6 ans\n3€ par personne \nTous les membres de la famille sont bienvenus\nSauf exceptions\, adhésion obligatoire à LA RUCHE : 5 €.  Une seule adhésion par famille et par an. Si vous avez pris une adhésion dans le cadre de nos ateliers à l’année\, vous n’êtes pas concernés. Plus d’informations en cliquant ICI\n\nPRÉCAUTIONS COVID-19 :\n\nLavez-vous régulièrement les mains\, toussez et éternuez dans votre coude.\nPortez un masque si vous êtes symptomatique ou à risque.\nCes recommandations peuvent évoluer en fonction de l’intensité de l’épidémie et des contraintes sanitaires.\n\n
URL:https://www.cslaruche.fr/evenement/jeux-de-mises-en-scene/
LOCATION:LA RUCHE\, Espace du Belin\, 34 rue des Frères Bailleul\, Laigné-Saint-Gervais\, 72220\, France
ATTACH;FMTTYPE=image/jpeg:https://www.cslaruche.fr/wp-content/uploads/2022/10/se-mettre-en-scène.jpg
ORGANIZER;CN="LA%20RUCHE%2C%20Centre%20Social":MAILTO:accueil@cslaruche.fr
END:VEVENT
END:VCALENDAR