BEGIN:VCALENDAR
VERSION:2.0
PRODID:-//LA RUCHE - ECPv4.7.4//NONSGML v1.0//EN
CALSCALE:GREGORIAN
METHOD:PUBLISH
X-WR-CALNAME:LA RUCHE
X-ORIGINAL-URL:https://www.cslaruche.fr
X-WR-CALDESC:évènements pour LA RUCHE
BEGIN:VEVENT
DTSTART;TZID=Europe/Paris:20240928T100000
DTEND;TZID=Europe/Paris:20240928T110000
DTSTAMP:20260423T093425
CREATED:20240826T080001Z
LAST-MODIFIED:20241114T131916Z
UID:20133-1727517600-1727521200@www.cslaruche.fr
SUMMARY:Jeux d’éveil artistique
DESCRIPTION:Avec la compagnie “ A trois branches”  \nAvant d’assister à leur spectacle le lendemain au Val’Rhonne\, nous vous proposons de découvrir les artistes de la compagnie sarthoise par le biais d’un atelier d’éveil artistique.  \nElles vous emmèneront dans leur univers créatif ; là où loin des jeux et de la consommation\, tout est possible.  \nINFORMATIONS PRATIQUES \n\nEn famille\, de 1 à 5 ans\nSur inscription\, jauge limitée\n2€ par personne pour les familles de notre territoire d’intervention (Laigné en Belin\, Saint Gervais en Belin\, Ecommoy\, Teloché\, Moncé en Belin et Saint Ouen en Belin) – 4€ par personne pour les autres familles. + d’informations en cliquant ICI\nTous les membres de la famille sont bienvenus\nSauf exceptions\, adhésion obligatoire à LA RUCHE : 5 €.  Une seule adhésion par famille et par an. Si vous avez pris une adhésion dans le cadre de nos ateliers à l’année\, vous n’êtes pas concernés. Plus d’informations en cliquant ICI\nPaiement possible par Carte Bancaire  \n\n
URL:https://www.cslaruche.fr/evenement/jeux-deveil-artistique/
LOCATION:Le Val’Rhonne\, Allée de l'Europe\, Moncé en belin\, 72220
ORGANIZER;CN="LA%20RUCHE%2C%20Centre%20Social":MAILTO:accueil@cslaruche.fr
END:VEVENT
END:VCALENDAR