BEGIN:VCALENDAR
VERSION:2.0
PRODID:-//LA RUCHE - ECPv4.7.4//NONSGML v1.0//EN
CALSCALE:GREGORIAN
METHOD:PUBLISH
X-WR-CALNAME:LA RUCHE
X-ORIGINAL-URL:https://www.cslaruche.fr
X-WR-CALDESC:évènements pour LA RUCHE
BEGIN:VEVENT
DTSTART;TZID=Europe/Paris:20240902T080000
DTEND;TZID=Europe/Paris:20241220T170000
DTSTAMP:20260421T063940
CREATED:20240902T123545Z
LAST-MODIFIED:20241114T131508Z
UID:20195-1725264000-1734714000@www.cslaruche.fr
SUMMARY:La gazette automne hiver
DESCRIPTION:La Gazette de l’automne hiver est arrivée !\nBébés lecteurs\, éveil artistique\, fiesta fajitas\, la roue de la pizza\, les 10h du jeu\, visite de ferme\, spectacle\, massage bébé… \nProfitez des activités variées proposées par LA RUCHE ! Vous pouvez télécharger la nouvelle gazette ICI \nRetrouvez les détails\, notamment les dates et horaires\, sur l’agenda de notre site Internet et sur notre page FACEBOOK et même Instagram ! \nINFORMATIONS PRATIQUES\nPour les actions parentalité : \n\nNotre territoire est Laigné en Belin\, Saint Gervais en Belin\, Teloché\, Saint Ouen en Belin\, Moncé en Belin et Ecommoy.\nLes familles de ce territoire sont prioritaires à l’inscription.\nPour les sorties\, co-voiturage possible\n\n
URL:https://www.cslaruche.fr/evenement/la-gazette-automne-hiver/
LOCATION:Divers lieux du Belinois\, France
ATTACH;FMTTYPE=image/png:https://www.cslaruche.fr/wp-content/uploads/2024/09/banniere-automnehiver24.png
ORGANIZER;CN="LA%20RUCHE%2C%20Centre%20Social":MAILTO:accueil@cslaruche.fr
END:VEVENT
END:VCALENDAR