BEGIN:VCALENDAR
VERSION:2.0
PRODID:-//LA RUCHE - ECPv4.7.4//NONSGML v1.0//EN
CALSCALE:GREGORIAN
METHOD:PUBLISH
X-WR-CALNAME:LA RUCHE
X-ORIGINAL-URL:https://www.cslaruche.fr
X-WR-CALDESC:évènements pour LA RUCHE
BEGIN:VEVENT
DTSTART;TZID=Europe/Paris:20241019T130000
DTEND;TZID=Europe/Paris:20241019T203000
DTSTAMP:20260421T033440
CREATED:20240826T080024Z
LAST-MODIFIED:20241114T131304Z
UID:20163-1729342800-1729369800@www.cslaruche.fr
SUMMARY:La Roue de la Pizza - reporté
DESCRIPTION:Dans le cadre des semaines de la parentalité  \nAvec les maraîchers et producteurs de Laigné-St Gervais.  \nAnimation reportée au Printemps en raison de la météo trop incertaine.\n  \nProjet inédit !  \nNous vous proposons une balade à pied ou à vélo pour réunir tous les ingrédients vous permettant de confectionner la meilleure pizza du monde.  \nLe saviez-vous ? en 12 km max’\, nous avons tous les ingrédients nécessaires à la confection d’une délicieuse pizza sur le Belinois !  \nDe Jean-Marc Coulon pour la sauce tomate à Damien Houdayer pour les légumes et le jus de pommes en passant par Céline Follenfant pour le fromage et David Lux pour la bière\, l’apéro est plus qu’alléchant !  \nEn point final\, Frédéric Houdayer\, paysan boulanger\, nous attend chez lui pour une cuisson Al Dente au feu de bois !  \nAprès-midi familiale\, conviviale et animée ! \nINFORMATIONS PRATIQUES \n\nEn famille\nSur inscription\, jauge limitée\n3€ par personne pour les familles de notre territoire d’intervention (Laigné en Belin\, Saint Gervais en Belin\, Ecommoy\, Teloché\, Moncé en Belin et Saint Ouen en Belin) – 6€ par personne pour les autres familles. + d’informations en cliquant ICI\nTous les membres de la famille sont bienvenus\nSauf exceptions\, adhésion obligatoire à LA RUCHE : 5 €.  Une seule adhésion par famille et par an. Si vous avez pris une adhésion dans le cadre de nos ateliers à l’année\, vous n’êtes pas concernés. Plus d’informations en cliquant ICI\nPaiement possible par Carte Bancaire  \n\n
URL:https://www.cslaruche.fr/evenement/la-roue-de-la-pizza/
LOCATION:laigné en belin
ATTACH;FMTTYPE=image/jpeg:https://www.cslaruche.fr/wp-content/uploads/2024/07/la-roue-de-la-pizza-scaled.jpg
ORGANIZER;CN="LA%20RUCHE%2C%20Centre%20Social":MAILTO:accueil@cslaruche.fr
END:VEVENT
END:VCALENDAR