BEGIN:VCALENDAR
VERSION:2.0
PRODID:-//LA RUCHE - ECPv4.7.4//NONSGML v1.0//EN
CALSCALE:GREGORIAN
METHOD:PUBLISH
X-WR-CALNAME:LA RUCHE
X-ORIGINAL-URL:https://www.cslaruche.fr
X-WR-CALDESC:évènements pour LA RUCHE
BEGIN:VEVENT
DTSTART;TZID=Europe/Paris:20230128T100000
DTEND;TZID=Europe/Paris:20230128T120000
DTSTAMP:20260421T172006
CREATED:20230105T114949Z
LAST-MODIFIED:20230130T082918Z
UID:17563-1674900000-1674907200@www.cslaruche.fr
SUMMARY:Le B.A-BA de bébé
DESCRIPTION:Le B.A-BA de bébé \n  \nLucile Guérineau\, éducatrice de jeunes enfants et membre de l’association ASAP72  nous partagera ses compétences et connaissances autour du jeune enfant. Quel type d’écharpe de portage choisir ? Comment se préparer à l’allaitement ?  Quels mouvements de massages pour apaiser bébé en cas de coliques ? Comment identifier les besoins de bébé ? » \nRejoignez-nous dans ce temps d’échange qui vous permettra de mieux appréhender l’arrivée de votre bébé et rencontrer d’autres familles vivant les mêmes découvertes.  \nPour découvrir l’association ASAP 72 >> https://www.facebook.com/profile.php?id=100085852256752 \nINFORMATIONS PRATIQUES\n  \n\nOuvert aux (futurs) Parents\n5€ par personne pour les familles de notre territoire d’intervention (Laigné en Belin\, Saint Gervais en Belin\, Ecommoy\, Teloché\, Moncé en Belin et Saint Ouen en Belin) – 7€ par personne pour les autres familles. + d’informations en cliquant ICI\nTous les membres de la famille sont bienvenus\nSauf exceptions\, adhésion obligatoire à LA RUCHE : 5 €.  Une seule adhésion par famille et par an. Si vous avez pris une adhésion dans le cadre de nos ateliers à l’année\, vous n’êtes pas concernés. Plus d’informations en cliquant ICI\nPaiement possible par Carte Bancaire  \n\n  \nPRÉCAUTIONS COVID-19 :\n\nLavez-vous régulièrement les mains\, toussez et éternuez dans votre coude.\nPortez un masque si vous êtes symptomatique ou à risque.\nCes recommandations peuvent évoluer en fonction de l’intensité de l’épidémie et des contraintes sanitaires.\n\n
URL:https://www.cslaruche.fr/evenement/le-b-a-ba-de-bebe/
LOCATION:Ecole Claire Fontaine\, Saint Ouen en Belin\, France
ATTACH;FMTTYPE=image/jpeg:https://www.cslaruche.fr/wp-content/uploads/2023/01/le-BA-ba-de-Bébé.jpg
ORGANIZER;CN="LA%20RUCHE%2C%20Centre%20Social":MAILTO:accueil@cslaruche.fr
END:VEVENT
END:VCALENDAR