BEGIN:VCALENDAR
VERSION:2.0
PRODID:-//LA RUCHE - ECPv4.7.4//NONSGML v1.0//EN
CALSCALE:GREGORIAN
METHOD:PUBLISH
X-WR-CALNAME:LA RUCHE
X-ORIGINAL-URL:https://www.cslaruche.fr
X-WR-CALDESC:évènements pour LA RUCHE
BEGIN:VEVENT
DTSTART;TZID=Europe/Paris:20221130T080000
DTEND;TZID=Europe/Paris:20221216T170000
DTSTAMP:20260423T013316
CREATED:20221115T112038Z
LAST-MODIFIED:20221219T112742Z
UID:16970-1669795200-1671210000@www.cslaruche.fr
SUMMARY:LE PÈRE NOËL VERT
DESCRIPTION:Le père Noël Vert\nCollecte de jouets et livres (propres\, complet et en bon état) au profit du Secours Populaire. \n\n\nDeux lieux de dépôts possibles TOUT public :\n\n\n\n\nIntermarché\nLA RUCHE\n\n\n\n\nPossibilité de déposer les jouets dans les écoles de vos enfants ou de vos adolescents : \n\n\n\n\nEcole Maternelle et Primaire Jean Baptiste Galan \, Laigné en Belin \nEcole Maternelle et Primaire Roland Deret\, Saint Gervais en Belin\nEcole Sainte Anne-Saint Joseph\, Saint Gervais en Belin\nLycée des Horizons\, Saint Gervais en Belin\n\n\nINFORMATIONS PRATIQUES\n  \n\nDépôt aux horaires d’ouverture des différents lieux\n\n\nPRÉCAUTIONS COVID-19 :\n\nLavez-vous régulièrement les mains\, toussez et éternuez dans votre coude.\nPortez un masque si vous êtes symptomatique ou à risque.\nCes recommandations peuvent évoluer en fonction de l’intensité de l’épidémie et des contraintes sanitaires.\n\n\n\n
URL:https://www.cslaruche.fr/evenement/le-pere-noel-vert-3/
LOCATION:Divers lieux de Laigné & St Gervais en Belin\, 72220\, France
ATTACH;FMTTYPE=image/jpeg:https://www.cslaruche.fr/wp-content/uploads/2021/10/Flyer-pere-noel-vert-643x410.jpg
ORGANIZER;CN="LA%20RUCHE%2C%20Centre%20Social":MAILTO:accueil@cslaruche.fr
END:VEVENT
END:VCALENDAR