BEGIN:VCALENDAR
VERSION:2.0
PRODID:-//LA RUCHE - ECPv4.7.4//NONSGML v1.0//EN
CALSCALE:GREGORIAN
METHOD:PUBLISH
X-WR-CALNAME:LA RUCHE
X-ORIGINAL-URL:https://www.cslaruche.fr
X-WR-CALDESC:évènements pour LA RUCHE
BEGIN:VEVENT
DTSTART;TZID=Europe/Paris:20221217T100000
DTEND;TZID=Europe/Paris:20221217T120000
DTSTAMP:20260422T090331
CREATED:20221205T103916Z
LAST-MODIFIED:20230103T111258Z
UID:17315-1671271200-1671278400@www.cslaruche.fr
SUMMARY:Leche League
DESCRIPTION:Leche League \n[ON LES ACCUEILLE]\n  \nL’association Leche League soutient et accompagne l’allaitement : \nComment m’y prendre? Comment expliquer ce choix à mon entourage? Comment me sentir à l’aise quand je suis à l’extérieur? \n  \nElle tient des permanences à LA RUCHE. \nLucie\, référente de l’association\, sera donc présente pour accueillir mamans\, papas et nourrissons afin d’échanger librement sur ce sujet. \nINFORMATIONS PRATIQUES\n  \n\nOuvert aux (futurs) parents\nGratuit\nSur inscription\n\n  \nPRÉCAUTIONS COVID-19 :\n\nLavez-vous régulièrement les mains\, toussez et éternuez dans votre coude.\nPortez un masque si vous êtes symptomatique ou à risque.\nCes recommandations peuvent évoluer en fonction de l’intensité de l’épidémie et des contraintes sanitaires.\n\n
URL:https://www.cslaruche.fr/evenement/leche-league-7/
LOCATION:LA RUCHE\, Espace du Belin\, 34 rue des Frères Bailleul\, Laigné-Saint-Gervais\, 72220\, France
ATTACH;FMTTYPE=image/jpeg:https://www.cslaruche.fr/wp-content/uploads/2020/01/Leche-League-2.jpg
ORGANIZER;CN="LA%20RUCHE%2C%20Centre%20Social":MAILTO:accueil@cslaruche.fr
END:VEVENT
END:VCALENDAR