BEGIN:VCALENDAR
VERSION:2.0
PRODID:-//LA RUCHE - ECPv4.7.4//NONSGML v1.0//EN
CALSCALE:GREGORIAN
METHOD:PUBLISH
X-WR-CALNAME:LA RUCHE
X-ORIGINAL-URL:https://www.cslaruche.fr
X-WR-CALDESC:évènements pour LA RUCHE
BEGIN:VEVENT
DTSTART;TZID=Europe/Paris:20230228T100000
DTEND;TZID=Europe/Paris:20230228T120000
DTSTAMP:20260421T005518
CREATED:20230123T104201Z
LAST-MODIFIED:20230301T083543Z
UID:17832-1677578400-1677585600@www.cslaruche.fr
SUMMARY:Leche League
DESCRIPTION:Leche League\n  \nLa Leche League France a pour but d’aider\, par un soutien de mère à mère\, toutes les femmes souhaitant allaiter\, en leur transmettant l’art\, le savoir-faire de l’allaitement… \nDepuis plusieurs années maintenant\, nous accueillons une permanence à LA RUCHE afin que les familles du Belinois puissent profiter de leurs interventions. Elle a lieu une fois par mois. \n+ d’infos en cliquant ICI  \n  \nINFORMATIONS PRATIQUES\n  \n\nOuvert aux (futurs) parents\nGratuit \n\nPRÉCAUTIONS COVID-19 :\n\nLavez-vous régulièrement les mains\, toussez et éternuez dans votre coude.\nPortez un masque si vous êtes symptomatique ou à risque.\nCes recommandations peuvent évoluer en fonction de l’intensité de l’épidémie et des contraintes sanitaires.\n\n
URL:https://www.cslaruche.fr/evenement/leche-league-8/
LOCATION:LA RUCHE\, Espace du Belin\, 34 rue des Frères Bailleul\, Laigné-Saint-Gervais\, 72220\, France
ATTACH;FMTTYPE=image/jpeg:https://www.cslaruche.fr/wp-content/uploads/2023/01/leche-league.jpg
ORGANIZER;CN="LA%20RUCHE%2C%20Centre%20Social":MAILTO:accueil@cslaruche.fr
END:VEVENT
END:VCALENDAR