BEGIN:VCALENDAR
VERSION:2.0
PRODID:-//LA RUCHE - ECPv4.7.4//NONSGML v1.0//EN
CALSCALE:GREGORIAN
METHOD:PUBLISH
X-WR-CALNAME:LA RUCHE
X-ORIGINAL-URL:https://www.cslaruche.fr
X-WR-CALDESC:évènements pour LA RUCHE
BEGIN:VEVENT
DTSTART;TZID=Europe/Paris:20231014T100000
DTEND;TZID=Europe/Paris:20231014T110000
DTSTAMP:20260421T084103
CREATED:20231002T080718Z
LAST-MODIFIED:20231017T090417Z
UID:19098-1697277600-1697281200@www.cslaruche.fr
SUMMARY:Les Racontines
DESCRIPTION:Les Racontines \nCo-organisé avec Isabelle de la médiathèque d’Ecommoy  \n  \nIsabelle\, de la médiathèque d’Ecommoy nous a réservé une sélection d’ouvrages autour de l’automne et de ses couleurs flamboyantes. \n  \nS’en suivra un atelier créatif à la manière de Daniel Picon et de son ouvrage  » Fleurs et Feuilles » ! \nEt si les feuilles mortes donnaient vie à d’incroyables animaux ? \n  \nLes collectes de vos jardins seront les bienvenues. \n  \nLa formule des bébés lecteurs plaît tant que nous la déployons avec plusieurs bibliothécaires de la Communauté de Communes de l’Orée de Bercé-Belinois.   \nPour rappel ; nous sommes un mercredi par mois à Laigné avec Nicolas et un mardi par mois à Moncé avec Manon. \n  \nINFORMATIONS PRATIQUES\n  \n\nEn famille\, de 0 à 3 ans\nGratuit\nTous les membres de la famille sont bienvenus\n\n
URL:https://www.cslaruche.fr/evenement/les-racontines-2/
LOCATION:Bibliothèque d’Écommoy\, 4 rue des Perrières\, Écommoy\, 72220\, France
ATTACH;FMTTYPE=image/jpeg:https://www.cslaruche.fr/wp-content/uploads/2023/10/Les-Racontines-e1696234114916.jpg
ORGANIZER;CN="LA%20RUCHE%2C%20Centre%20Social":MAILTO:accueil@cslaruche.fr
END:VEVENT
END:VCALENDAR