BEGIN:VCALENDAR
VERSION:2.0
PRODID:-//LA RUCHE - ECPv4.7.4//NONSGML v1.0//EN
CALSCALE:GREGORIAN
METHOD:PUBLISH
X-WR-CALNAME:LA RUCHE
X-ORIGINAL-URL:https://www.cslaruche.fr
X-WR-CALDESC:évènements pour LA RUCHE
BEGIN:VEVENT
DTSTART;TZID=Europe/Paris:20230121T100000
DTEND;TZID=Europe/Paris:20230121T110000
DTSTAMP:20260421T201436
CREATED:20230105T114613Z
LAST-MODIFIED:20230130T082951Z
UID:17559-1674295200-1674298800@www.cslaruche.fr
SUMMARY:Les Racontines
DESCRIPTION:Les Racontines\n  \nNous proposons aux familles avec des jeunes enfants de découvrir les joies de la lecture à la bibliothèque d’Ecommoy.  \nIsabelle nous fera découvrir des contes autour de l’hiver. Cette lecture sera suivie d’un atelier créatif sur le même thème.  \nA très vite !  \n  \nINFORMATIONS PRATIQUES\n  \n\nEn famille\, de 0 à 3 ans\nGratuit  \nTous les membres de la famille sont bienvenus\nSauf exceptions\, adhésion obligatoire à LA RUCHE : 5 €.  Une seule adhésion par famille et par an. Si vous avez pris une adhésion dans le cadre de nos ateliers à l’année\, vous n’êtes pas concernés. Plus d’informations en cliquant ICI\nPaiement possible par Carte Bancaire  \n\n  \nPRÉCAUTIONS COVID-19 :\n\nLavez-vous régulièrement les mains\, toussez et éternuez dans votre coude.\nPortez un masque si vous êtes symptomatique ou à risque.\nCes recommandations peuvent évoluer en fonction de l’intensité de l’épidémie et des contraintes sanitaires.\n\n
URL:https://www.cslaruche.fr/evenement/les-racontines/
LOCATION:Bibliothèque d’Écommoy\, 4 rue des Perrières\, Écommoy\, 72220\, France
ATTACH;FMTTYPE=image/jpeg:https://www.cslaruche.fr/wp-content/uploads/2023/01/les-racontines.jpg
ORGANIZER;CN="LA%20RUCHE%2C%20Centre%20Social":MAILTO:accueil@cslaruche.fr
END:VEVENT
END:VCALENDAR