BEGIN:VCALENDAR
VERSION:2.0
PRODID:-//LA RUCHE - ECPv4.7.4//NONSGML v1.0//EN
CALSCALE:GREGORIAN
METHOD:PUBLISH
X-WR-CALNAME:LA RUCHE
X-ORIGINAL-URL:https://www.cslaruche.fr
X-WR-CALDESC:évènements pour LA RUCHE
BEGIN:VEVENT
DTSTART;TZID=Europe/Paris:20221221T100000
DTEND;TZID=Europe/Paris:20221221T120000
DTSTAMP:20260422T045459
CREATED:20221209T083408Z
LAST-MODIFIED:20221221T143935Z
UID:17324-1671616800-1671624000@www.cslaruche.fr
SUMMARY:Mes sablés de Noël
DESCRIPTION:Mes sablés de Noël\nEt si le plaisir de la cuisine se transmettait dés le plus jeune âge ?  \nEt si pour une fois on pouvait mettre à la bouche ce qu’on a entre les mains?  \nMatinée pâtisserie avec les jeunes enfants autour de création de sablés de Noël.  \n  \nINFORMATIONS PRATIQUES\n  \n\nEn famille\, à partir de 1 an\n2 € par personne\nTous les membres de la famille sont bienvenus\nSauf exceptions\, adhésion obligatoire à LA RUCHE : 5 €.  Une seule adhésion par famille et par an. Si vous avez pris une adhésion dans le cadre de nos ateliers à l’année\, vous n’êtes pas concernés. Plus d’informations en cliquant ICI\nNouveau ! Paiement possible par Carte Bancaire  \n\n  \nPRÉCAUTIONS COVID-19 : \n  \n\nLavez-vous régulièrement les mains\, toussez et éternuez dans votre coude.\nPortez un masque si vous êtes symptomatique ou à risque.\nCes recommandations peuvent évoluer en fonction de l’intensité de l’épidémie et des contraintes sanitaires.\n\n
URL:https://www.cslaruche.fr/evenement/mes-sables-de-noel/
LOCATION:LA RUCHE\, Espace du Belin\, 34 rue des Frères Bailleul\, Laigné-Saint-Gervais\, 72220\, France
ATTACH;FMTTYPE=image/jpeg:https://www.cslaruche.fr/wp-content/uploads/2022/12/to-bake-g6216ed2bf_1920-1.jpg
ORGANIZER;CN="LA%20RUCHE%2C%20Centre%20Social":MAILTO:accueil@cslaruche.fr
END:VEVENT
END:VCALENDAR