BEGIN:VCALENDAR
VERSION:2.0
PRODID:-//LA RUCHE - ECPv4.7.4//NONSGML v1.0//EN
CALSCALE:GREGORIAN
METHOD:PUBLISH
X-WR-CALNAME:LA RUCHE
X-ORIGINAL-URL:https://www.cslaruche.fr
X-WR-CALDESC:évènements pour LA RUCHE
BEGIN:VEVENT
DTSTART;TZID=Europe/Paris:20221109T100000
DTEND;TZID=Europe/Paris:20221109T113000
DTSTAMP:20260423T154930
CREATED:20221011T074857Z
LAST-MODIFIED:20221109T081412Z
UID:16727-1667988000-1667993400@www.cslaruche.fr
SUMMARY:Mes douze premiers mois
DESCRIPTION:Mes douze premiers mois\n  \nQue faire avec bébé ?  \nOn a bien souvent en tête d’attendre quelques années avant de pouvoir jouer avec son enfant. Pas facile dés la naissance de bien savoir comment l’éveiller ou quels jeux sont adaptés …  \nCe 9 novembre\, Mathilde Bruneau \, ludothécaire à Planet Jeux nous partage les activités idéales à mettre en place avec son bébé au quotidien.  \n  \nINFORMATIONS PRATIQUES\n  \n\nEn famille\, de la naissance à 2 ans.\n3€ par personne \nTous les membres de la famille sont bienvenus\nSauf exceptions\, adhésion obligatoire à LA RUCHE : 5 €.  Une seule adhésion par famille et par an. Si vous avez pris une adhésion dans le cadre de nos ateliers à l’année\, vous n’êtes pas concernés. Plus d’informations en cliquant ICI\nNouveau ! Paiement possible par Carte Bancaire  \n\n  \nPRÉCAUTIONS COVID-19 :\n\nLavez-vous régulièrement les mains\, toussez et éternuez dans votre coude.\nPortez un masque si vous êtes symptomatique ou à risque.\nCes recommandations peuvent évoluer en fonction de l’intensité de l’épidémie et des contraintes sanitaires.\n\n
URL:https://www.cslaruche.fr/evenement/mes12premiersmois/
LOCATION:Gymnase\, Place des Olympiades\, Teloché\, 72220
ATTACH;FMTTYPE=image/jpeg:https://www.cslaruche.fr/wp-content/uploads/2022/10/mes-douze-premier-mois.jpg
ORGANIZER;CN="LA%20RUCHE%2C%20Centre%20Social":MAILTO:accueil@cslaruche.fr
END:VEVENT
END:VCALENDAR