BEGIN:VCALENDAR
VERSION:2.0
PRODID:-//LA RUCHE - ECPv4.7.4//NONSGML v1.0//EN
CALSCALE:GREGORIAN
METHOD:PUBLISH
X-WR-CALNAME:LA RUCHE
X-ORIGINAL-URL:https://www.cslaruche.fr
X-WR-CALDESC:évènements pour LA RUCHE
BEGIN:VEVENT
DTSTART;TZID=Europe/Paris:20221210T143000
DTEND;TZID=Europe/Paris:20221210T163000
DTSTAMP:20260422T130530
CREATED:20221121T111243Z
LAST-MODIFIED:20221212T082037Z
UID:17174-1670682600-1670689800@www.cslaruche.fr
SUMMARY:Musique "virtuelle"
DESCRIPTION:Musique Assistée par Ordinateur\nCo-organisé avec Pierre Charlot\, Conseiller Numérique du Conseil départemental \n  \nEst ce qu’il est possible de créer un air de musique avec un ordinateur ? Sans instrument\, comment est-ce possible de composer un morceau ?  \nPierre nous initiera aux premières astuces pour être capable de développer ce type de pratique à la maison.  \nMatériel mis à disposition.  \nAucune compétence pré-requise.  \nL’après- midi se conclura par un goûter partagé.  \n  \nINFORMATIONS PRATIQUES\n  \n\nEn famille\, à partir de 6 ans\nGratuit\nTous les membres de la famille sont bienvenus\nSauf exceptions\, adhésion obligatoire à LA RUCHE : 5 €.  Une seule adhésion par famille et par an. Si vous avez pris une adhésion dans le cadre de nos ateliers à l’année\, vous n’êtes pas concernés. Plus d’informations en cliquant ICI\nNouveau ! Paiement possible par Carte Bancaire  \n\n  \nPRÉCAUTIONS COVID-19 :\n\nLavez-vous régulièrement les mains\, toussez et éternuez dans votre coude.\nPortez un masque si vous êtes symptomatique ou à risque.\nCes recommandations peuvent évoluer en fonction de l’intensité de l’épidémie et des contraintes sanitaires.\n\n
URL:https://www.cslaruche.fr/evenement/musique-assistee-par-ordinateur/
LOCATION:Cybercentre d’Ecommoy\, 1 Rue Sainte Anne\, Ecommoy\, 72220
ATTACH;FMTTYPE=image/jpeg:https://www.cslaruche.fr/wp-content/uploads/2022/11/musique-virtuelle.jpg
ORGANIZER;CN="LA%20RUCHE%2C%20Centre%20Social":MAILTO:accueil@cslaruche.fr
END:VEVENT
END:VCALENDAR