BEGIN:VCALENDAR
VERSION:2.0
PRODID:-//LA RUCHE - ECPv4.7.4//NONSGML v1.0//EN
CALSCALE:GREGORIAN
METHOD:PUBLISH
X-WR-CALNAME:LA RUCHE
X-ORIGINAL-URL:https://www.cslaruche.fr
X-WR-CALDESC:évènements pour LA RUCHE
BEGIN:VEVENT
DTSTART;TZID=Europe/Paris:20221213T190000
DTEND;TZID=Europe/Paris:20221213T220000
DTSTAMP:20260422T102854
CREATED:20221121T133713Z
LAST-MODIFIED:20221214T082619Z
UID:17194-1670958000-1670968800@www.cslaruche.fr
SUMMARY:Noël Revisité par ...
DESCRIPTION:Noël Revisité par Les Candiratons\nOrganisé avec la médiathèque de Laigné Saint Gervais en Belin \n  \nThéâtre d’improvisation  \nEn première partie\, les jeunes des ateliers théâtre de LA RUCHE se lancent sur scène ! \nEnsuite\, un spectacle totalement improvisé avec la troupe d’improvisation Sarthoise : les Candiratons ! \nINFORMATIONS PRATIQUES\n  \n\nA partir de 12 ans\nGratuit\nSur réservation\nBuvette avec planche apéro sur place (6€ – pensez à réserver)\nService babysitting pour les 3 à 12 ans (3€ – sur réservation également)\nNouveau ! Paiement possible par Carte Bancaire\n\n  \nPRÉCAUTIONS COVID-19 :\n\nLavez-vous régulièrement les mains\, toussez et éternuez dans votre coude.\nPortez un masque si vous êtes symptomatique ou à risque.\nCes recommandations peuvent évoluer en fonction de l’intensité de l’épidémie et des contraintes sanitaires.\n\n
URL:https://www.cslaruche.fr/evenement/noel-revisite-par-les-candiratons/
LOCATION:La Belinoise\, rue de la Noé Gourdé\, Laigné en Belin\, 72220\, France
ATTACH;FMTTYPE=image/jpeg:https://www.cslaruche.fr/wp-content/uploads/2022/11/13-décembre-site-internet.jpg
ORGANIZER;CN="LA%20RUCHE%2C%20Centre%20Social":MAILTO:accueil@cslaruche.fr
END:VEVENT
END:VCALENDAR