BEGIN:VCALENDAR
VERSION:2.0
PRODID:-//LA RUCHE - ECPv4.7.4//NONSGML v1.0//EN
CALSCALE:GREGORIAN
METHOD:PUBLISH
X-WR-CALNAME:LA RUCHE
X-ORIGINAL-URL:https://www.cslaruche.fr
X-WR-CALDESC:évènements pour LA RUCHE
BEGIN:VEVENT
DTSTART;TZID=Europe/Paris:20230318T100000
DTEND;TZID=Europe/Paris:20230318T120000
DTSTAMP:20260420T123928
CREATED:20230313T111459Z
LAST-MODIFIED:20230320T094315Z
UID:18308-1679133600-1679140800@www.cslaruche.fr
SUMMARY:Portage physiologique
DESCRIPTION:Atelier de portage physiologique\n  \nAvec Lucile de l’Association de Soutien & Accompagnement à la Parentalité \nInitiation au portage ou optimisation de votre moyen de portage avec les conseils d’une professionnelle de la petite enfance et de la parentalité. \n  \n \nINFORMATIONS PRATIQUES\n  \n⦁ Ouvert à tous: parents\, co-parents\, futurs parents ou autres membres de la famille\n⦁ 5€ par famille\n⦁ Inscriptions directement auprès de Lucile : 06 83 98 23 64 / assoc.asap72@gmail.com ou auprès de Manon à l’accueil de LA RUCHE \nPRÉCAUTIONS COVID-19 :\n⦁ Lavez-vous régulièrement les mains\, toussez et éternuez dans votre coude.\n⦁ Portez un masque si vous êtes symptomatique ou à risque. \n⦁ Ces recommandations peuvent évoluer en fonction de l’intensité de l’épidémie et des contraintes sanitaires. \n
URL:https://www.cslaruche.fr/evenement/portage-physiologique/
LOCATION:Espace du Belin\, 34 rue des Frères Bailleul\, Laigné en Belin\, 72220\, France
ATTACH;FMTTYPE=image/jpeg:https://www.cslaruche.fr/wp-content/uploads/2023/03/vue-laterale-mere-tenant-bebe-exterieur-1.jpg
ORGANIZER;CN="LA%20RUCHE%2C%20Centre%20Social":MAILTO:accueil@cslaruche.fr
END:VEVENT
END:VCALENDAR